BEGIN:VCALENDAR
VERSION:2.0
PRODID:-//wp-events-plugin.com//7.2.3.1//EN
TZID:America/New_York
X-WR-TIMEZONE:America/New_York
BEGIN:VEVENT
UID:476@breatheatlanta.us
DTSTART;TZID=America/New_York:20240912T103000
DTEND;TZID=America/New_York:20240912T120000
DTSTAMP:20240923T174343Z
URL:https://breatheatlanta.us/events/pumpkin-spice-puppy-yoga-a-cozy-autum
 n-event/
SUMMARY:Pumpkin Spice Puppy Yoga: A Cozy Autumn Event
DESCRIPTION:\n\n\n\n\nEmbrace the fall season with Pumpkin Spice Puppy Yoga
 \, a delightful event combining yoga\, adorable puppies\, and delicious se
 asonal treats. Kick off your morning with a one-hour yoga session designed
  for all skill levels\, led by certified yoga instructor and long-time Atl
 anta Humane volunteer\, Melisa Cvrk\, who brings over 10 years of teaching
  experience.\n\nAfter a rejuvenating class\, indulge in freshly baked autu
 mn treats and enjoy a Pumpkin Spice Latte (or choose another beverage). Ea
 ch ticket also includes an exclusive Atlanta Humane ceramic coffee mug to 
 take home as a keepsake. Guests will have the chance to win a door prize u
 pon check-in\, adding an extra layer of excitement to the experience.\n\nT
 his unique event offers the perfect blend of relaxation\, playfulness\, an
 d community spirit. Whether you're an experienced yogi or a complete begin
 ner\, Pumpkin Spice Puppy Yoga welcomes all to unwind\, cuddle with puppie
 s\, and savor the flavors of fall. Don’t miss out on this heartwarming a
 nd fun-filled celebration!\n\n\n\n\n\n\nGET TICKETS\n
ATTACH;FMTTYPE=image/jpeg:https://breatheatlanta.us/wp-content/uploads/202
 4/09/Pumpkin-Spice-Puppy-Yoga.jpg
CATEGORIES:Wellness Events
LOCATION:1551 Perry Blvd NW\, 1551 Perry Boulevard \, Northwest Atlanta\, G
 eorgia\, 30318 \, GA\, United States
X-APPLE-STRUCTURED-LOCATION;VALUE=URI;X-ADDRESS=1551 Perry Boulevard \, Nor
 thwest Atlanta\, Georgia\, 30318 \, GA\, United States;X-APPLE-RADIUS=100;
 X-TITLE=1551 Perry Blvd NW:geo:0,0
END:VEVENT
BEGIN:VTIMEZONE
TZID:America/New_York
X-LIC-LOCATION:America/New_York
BEGIN:DAYLIGHT
DTSTART:20240310T030000
TZOFFSETFROM:-0500
TZOFFSETTO:-0400
TZNAME:EDT
END:DAYLIGHT
END:VTIMEZONE
END:VCALENDAR