BEGIN:VCALENDAR
VERSION:2.0
PRODID:-//wp-events-plugin.com//7.2.3.1//EN
TZID:America/New_York
X-WR-TIMEZONE:America/New_York
BEGIN:VEVENT
UID:372@breatheatlanta.us
DTSTART;TZID=America/New_York:20240815T183000
DTEND;TZID=America/New_York:20240815T193000
DTSTAMP:20240909T094910Z
URL:https://breatheatlanta.us/events/puppy-yoga-2/
SUMMARY:Puppy Yoga
DESCRIPTION:Immerse yourself in a heartwarming blend of yoga and puppy love
  at the upcoming Puppy Yoga event. Perfect for both seasoned yogis and new
 comers alike\, this special session promises to bring relaxation\, joy\, a
 nd furry companionship to your practice.\n\nEvent Details:\n\n 	Date: Wedn
 esday\, July 24\, 2024\n 	Time: 6:30 P.M. - 7:30 P.M.\n 	Location: 1551 Pe
 rry Boulevard Northwest\, Atlanta\, GA 30318\n\nWhat to Expect:\n\n 	Guide
 d by Expert: Maya Nenova\, a certified instructor from Evolation Yoga\, wi
 ll lead the session. Her gentle guidance will help participants connect wi
 th their bodies and minds while being surrounded by playful puppies.\n 	Al
 l Levels Welcome: Whether you’re a seasoned practitioner or trying yoga 
 for the first time\, this event is designed to be inclusive. There’s no 
 need for previous yoga experience—just bring your enthusiasm and a love 
 for puppies.\n 	Session Highlights: The evening will start with a light wa
 rm-up\, transition into a soothing yoga flow\, and include ample time for 
 cuddling with the adorable puppies. This combination of yoga and puppy int
 eraction is intended to promote relaxation and inner peace.\n\nAdditional 
 Information:\n\n 	Unforgettable Experience: Expect a session filled with s
 miles\, laughter\, and the gentle pitter-patter of puppy paws. The puppies
  will add an extra layer of joy and comfort\, making this a memorable expe
 rience for all attendees.\n\nCome and enjoy a delightful yoga practice enh
 anced by the presence of furry friends. Puppy Yoga is not just about stret
 ching and poses—it's about creating a joyful\, soothing experience that 
 combines the benefits of yoga with the love and playfulness of puppies. Do
 n’t miss this chance to blend fitness with fun in an unforgettable way!\
 n\nGET TICKETS\n
ATTACH;FMTTYPE=image/jpeg:https://breatheatlanta.us/wp-content/uploads/202
 4/07/Puppy-Yoga.jpg
CATEGORIES:Mindfulness Events,Things To Do,Wellness Events,Yoga Events
LOCATION:Atlanta Humane Society\, 1551 Perry Boulevard NW Atlanta\, GA 3031
 8 United States\, GA\,  United States\,  30318\, GA \, United States
X-APPLE-STRUCTURED-LOCATION;VALUE=URI;X-ADDRESS=1551 Perry Boulevard NW Atl
 anta\, GA 30318 United States\, GA\,  United States\,  30318\, GA \, Unite
 d States;X-APPLE-RADIUS=100;X-TITLE=Atlanta Humane Society:geo:0,0
END:VEVENT
BEGIN:VTIMEZONE
TZID:America/New_York
X-LIC-LOCATION:America/New_York
BEGIN:DAYLIGHT
DTSTART:20240310T030000
TZOFFSETFROM:-0500
TZOFFSETTO:-0400
TZNAME:EDT
END:DAYLIGHT
END:VTIMEZONE
END:VCALENDAR