BEGIN:VCALENDAR
VERSION:2.0
PRODID:-//wp-events-plugin.com//7.2.3.1//EN
TZID:America/New_York
X-WR-TIMEZONE:America/New_York
BEGIN:VEVENT
UID:468@breatheatlanta.us
DTSTART;TZID=America/New_York:20241010T183000
DTEND;TZID=America/New_York:20241010T193000
DTSTAMP:20240923T051424Z
URL:https://breatheatlanta.us/events/puppy-yoga-a-heartwarming-experience/
SUMMARY:Puppy Yoga: A Heartwarming Experience
DESCRIPTION:Prepare for an extraordinary yoga session that combines relaxat
 ion\, wellness\, and the sheer joy of being surrounded by playful puppies!
  Open to both seasoned yogis and complete beginners\, this event promises 
 not only physical rejuvenation but also a dose of happiness through cuddle
 s with adorable pups.\nThe event will take place on Thursday\, October 10\
 , 2024\, from 6:30 P.M. to 7:30 P.M. at 1551 Perry Boulevard Northwest\, A
 tlanta\, GA 30318. Maya Nenova\, a certified instructor from Evolution Yog
 a\, will guide participants through a gentle\, calming yoga flow aimed at 
 enhancing mindfulness and body awareness. What makes this session truly sp
 ecial is the presence of puppies\, offering attendees a unique opportunity
  to experience the therapeutic benefits of animal interaction during the c
 lass.\nNo yoga experience is needed—this event is designed to be welcomi
 ng and accessible to everyone. The session will start with a light warm-up
  followed by a relaxing sequence of movements\, all with plenty of time fo
 r puppy cuddles throughout.\nParticipants are encouraged to bring their ow
 n yoga mats (BYOM). In addition\, all proceeds from the event will be dona
 ted to the Atlanta Humane Society\, supporting a great cause while you enj
 oy this unforgettable experience.\nSecure your spot today and join in on a
 n event that promises to nurture both body and soul!\n\nGET TICKETS\n
ATTACH;FMTTYPE=image/jpeg:https://breatheatlanta.us/wp-content/uploads/202
 4/09/Puppy-Yoga.jpg
CATEGORIES:Yoga Events
LOCATION:Atlanta Humane Society\, 1551 Perry Boulevard \, Northwest Atlanta
 \, Atlanta\, 30318\, United States
X-APPLE-STRUCTURED-LOCATION;VALUE=URI;X-ADDRESS=1551 Perry Boulevard \, Nor
 thwest Atlanta\, Atlanta\, 30318\, United States;X-APPLE-RADIUS=100;X-TITL
 E=Atlanta Humane Society:geo:0,0
END:VEVENT
BEGIN:VTIMEZONE
TZID:America/New_York
X-LIC-LOCATION:America/New_York
BEGIN:DAYLIGHT
DTSTART:20240310T030000
TZOFFSETFROM:-0500
TZOFFSETTO:-0400
TZNAME:EDT
END:DAYLIGHT
END:VTIMEZONE
END:VCALENDAR