BEGIN:VCALENDAR
VERSION:2.0
PRODID:-//wp-events-plugin.com//7.2.3.1//EN
TZID:America/New_York
X-WR-TIMEZONE:America/New_York
BEGIN:VEVENT
UID:83@breatheatlanta.us
DTSTART;TZID=America/New_York:20240404T183000
DTEND;TZID=America/New_York:20240404T193000
DTSTAMP:20240320T070602Z
URL:https://breatheatlanta.us/events/puppy-yoga/
SUMMARY:Puppy Yoga
DESCRIPTION:\n\n\n\n\n\n\n\n\n\n\n\n\nEmbark on a heartwarming journey as y
 ou join us for an unforgettable yoga session intertwined with the joyful p
 resence of endearing puppies\, all in aid of the Atlanta Humane Society. D
 elight in the harmony of mind\, body\, and soul as you flow through yoga p
 oses amidst the playful energy and unconditional love of these furry compa
 nions. Your participation not only promises a rejuvenating experience but 
 also contributes to the noble cause of caring for and finding loving homes
  for animals in need. Come\, be a part of this special event where yoga me
 ets compassion\, and together\, let's make a difference in the lives of ou
 r furry friends.\n\nEvent Information:\n\nEvent Name: Puppy Yoga\n\nHost: 
 Atlanta Humane Society\n\nDate and Time: Thursday\, April 4 • 6:30 - 7:3
 0 pm EDT\n\nLocation: Atlanta Humane Society\, 1551 Perry Boulevard NW Atl
 anta\, GA 30318 United States\n\nAbout this Event: Indulge in a one-of-a-k
 ind yoga experience with adorable puppies! Join us for an hour of pawsitiv
 ely fun and relaxing yoga\, surrounded by the cutest furry companions. Unl
 eash your inner yogi and immerse yourself in the joy of cuddling adoptable
  puppies. This event is designed to offer a blend of relaxation and laught
 er\, creating unforgettable memories.\n\nTicket Information:\n\nGeneral Ad
 mission: $40.00\n\nFees: $4.52\n\nSales Tax: $3.96\n\nTotal: $48.48\n\nRef
 und Policy: Contact the organizer to request a refund. Eventbrite's fee is
  nonrefundable.\n\nGET TICKETS\n&nbsp\;\n\nWorkout Session Detail: Led by 
 certified instructor Maya Nenova from Evolution Yoga\, this rejuvenating y
 oga session offers a unique twist as you connect with your body amidst the
  playful energy of adorable puppies. Whether you're a seasoned yogi or a c
 omplete beginner\, all levels are welcome to participate. Bring your yoga 
 mat and get ready to downward dog with these lovable pups.\n\nEssential fo
 r Bring: Participants are required to bring their yoga mats.\n\nParking Op
 tion: Parking is available at the Atlanta Humane Society location.\n\nThis
  event not only promises a delightful yoga experience but also contributes
  to a noble cause\, as all proceeds will benefit the Atlanta Humane Societ
 y. Reserve your spot now and join us for a woof-tastic time filled with la
 ughter\, relaxation\, and lots of puppy love!\n\n\n\n\n\n\n\n\n\n\n\n\n\n\
 n\n\n\n\n\n\n\n\n
ATTACH;FMTTYPE=image/jpeg:https://breatheatlanta.us/wp-content/uploads/202
 4/03/https___cdn.evbuc_.com_images_626731109_150086953536_1_original.jpg
CATEGORIES:Wellness Events,Yoga Events
LOCATION:Atlanta Humane Society\, 1551 Perry Boulevard NW Atlanta\, GA 3031
 8 United States\, GA\,  United States\,  30318\, GA \, United States
X-APPLE-STRUCTURED-LOCATION;VALUE=URI;X-ADDRESS=1551 Perry Boulevard NW Atl
 anta\, GA 30318 United States\, GA\,  United States\,  30318\, GA \, Unite
 d States;X-APPLE-RADIUS=100;X-TITLE=Atlanta Humane Society:geo:0,0
END:VEVENT
BEGIN:VTIMEZONE
TZID:America/New_York
X-LIC-LOCATION:America/New_York
BEGIN:DAYLIGHT
DTSTART:20240310T030000
TZOFFSETFROM:-0500
TZOFFSETTO:-0400
TZNAME:EDT
END:DAYLIGHT
END:VTIMEZONE
END:VCALENDAR