BEGIN:VCALENDAR
VERSION:2.0
PRODID:-//wp-events-plugin.com//7.2.3.1//EN
TZID:America/New_York
X-WR-TIMEZONE:America/New_York
BEGIN:VEVENT
UID:281@breatheatlanta.us
DTSTART;TZID=America/New_York;VALUE=DATE:20240622
DTEND;TZID=America/New_York;VALUE=DATE:20240623
DTSTAMP:20240515T114604Z
URL:https://breatheatlanta.us/events/pure-barre-on-the-terrace/
SUMMARY:Pure Barre On The Terrace
DESCRIPTION:\n\n\n\n\n\n\n\n\n\n\n\n\n\nJoin us for an invigorating workout
  session in our outdoor courtyard as we partner with Pure Barre Alpharetta
  for a unique fitness experience.\n\nWorkout Session:\n\n 	Expert Instruct
 ion: Receive expert guidance from Pure Barre Alpharetta instructors\, ensu
 ring a safe and effective workout.\n 	Suitable for All Levels: Whether you
 're a seasoned barre enthusiast or new to the practice\, this session is d
 esigned to accommodate all fitness levels.\n 	Bring Your Essentials: Don't
  forget to bring your mat\, water bottle\, and towel to enhance your worko
 ut experience.\n 	Date and Time: The session will take place on a Saturday
  morning\, providing the perfect start to your weekend.\n\nPost-Workout Re
 freshments:\n\n 	Lemon Ginger Health Shot: Kickstart your post-workout rec
 overy with a refreshing lemon ginger health shot from Vitality Bowls Alpha
 retta.\n 	Lite Bites and Spritz: After the workout\, unwind and socialize 
 in our courtyard with live music\, while enjoying lite bites and a spritz 
 courtesy of Carrie’s Alpharetta.\n\nTicket Information:\n\n 	Price: Tick
 ets are priced at $25 per person\, offering exceptional value for a revita
 lizing workout experience followed by post-workout refreshments.\n 	Inclus
 ions: Your ticket includes the pre-class health shot\, post-workout lite b
 ites\, and spritz\, ensuring a complete and satisfying experience.\n\nJoin
  Us! Don't miss out on this opportunity to elevate your fitness routine an
 d enjoy a morning of fitness and fun in our scenic outdoor setting. Gather
  your friends and join us for Pure Barre On The Terrace at Hamilton Alphar
 etta.\n\nReserve your spot now and take the first step towards a healthier
  and more energized lifestyle. We look forward to seeing you there!\n\nGET
  TICKETS\n\n\n\n\n\n\n\n\n\n\n\n\n\n
ATTACH;FMTTYPE=image/jpeg:https://breatheatlanta.us/wp-content/uploads/202
 4/05/Pure-Barre-On-The-Terrace-at-Hamilton-Alpharetta.jpg
CATEGORIES:Yoga Events
LOCATION:The Hamilton Alpharetta\, 35 Milton Avenue Alpharetta\, Alpharetta
 \, 30009\, United States
X-APPLE-STRUCTURED-LOCATION;VALUE=URI;X-ADDRESS=35 Milton Avenue Alpharetta
 \, Alpharetta\, 30009\, United States;X-APPLE-RADIUS=100;X-TITLE=The Hamil
 ton Alpharetta:geo:0,0
END:VEVENT
BEGIN:VTIMEZONE
TZID:America/New_York
X-LIC-LOCATION:America/New_York
BEGIN:DAYLIGHT
DTSTART:20240310T030000
TZOFFSETFROM:-0500
TZOFFSETTO:-0400
TZNAME:EDT
END:DAYLIGHT
END:VTIMEZONE
END:VCALENDAR