BEGIN:VCALENDAR
VERSION:2.0
PRODID:-//wp-events-plugin.com//7.2.3.1//EN
TZID:America/New_York
X-WR-TIMEZONE:America/New_York
BEGIN:VEVENT
UID:279@breatheatlanta.us
DTSTART;TZID=America/New_York:20240623T100000
DTEND;TZID=America/New_York:20240623T130000
DTSTAMP:20240515T062846Z
URL:https://breatheatlanta.us/events/queen-yenn-grounding-meditation-retre
 at/
SUMMARY:Grounding & Meditation Day Retreat with Queen Yenn
DESCRIPTION:Immerse yourself in a transformative journey of self-discovery 
 and inner peace with the Grounding &amp\; Meditation Day Retreat led by th
 e esteemed Queen Yenn. As the founder of Oyun Ministries and a certified M
 editation Instructor and Holistic Wellness Consultant &amp\; Coach\, Queen
  Yenn brings a wealth of experience and wisdom to guide participants on th
 is soul-nourishing adventure.\n\nWhat awaits you:\n\n 	Delight in a light 
 farm-to-table salad and freshly pressed juice\, nourishing your body with 
 wholesome goodness before delving into the realm of mindfulness.\n 	Engage
  in enlightening discussions led by Queen Yenn\, exploring the concepts of
  grounding and meditation. Discover what meditation truly entails\, debunk
  common misconceptions\, and uncover the myriad benefits it offers for hol
 istic well-being.\n 	Immerse yourself in the serene surroundings of the ga
 rden as you embark on a journey of grounding and meditation. Through guide
 d practices\, including Grounding in the Garden\, Walking Meditation\, and
  Silent Meditation\, reconnect with the present moment and cultivate a dee
 per sense of inner peace.\n\nTopics of discussion include:\n\n 	Understand
 ing the essence of meditation and dispelling myths surrounding the practic
 e.\n 	Exploring the profound benefits of grounding and meditation for ment
 al\, emotional\, and spiritual wellness.\n 	Addressing the challenges of "
 Quiet the Mind" and discovering techniques to navigate the inner chatter w
 ith grace and ease.\n\nPrepare for a day of relaxation and inspiration by 
 bringing along your own essentials: a yoga mat\, a light blanket\, a small
  pillow\, and any other items that will contribute to your comfort during 
 the retreat. Allow yourself to surrender to the tranquility of the moment 
 and embrace the transformative power of mindfulness under the guidance of 
 Queen Yenn.\n\nGET TICKETS\n
ATTACH;FMTTYPE=image/jpeg:https://breatheatlanta.us/wp-content/uploads/202
 4/05/Grounding-Meditation-Day-Retreat-With-Queen-Yenn.jpg
CATEGORIES:Mindfulness Events
LOCATION:Oyun Botanical Gardens (also Oyun Ministries & Marketplace)\, 3353
  Washington Road East Point\, East Point\, GA\, 30344\, United States
X-APPLE-STRUCTURED-LOCATION;VALUE=URI;X-ADDRESS=3353 Washington Road East P
 oint\, East Point\, GA\, 30344\, United States;X-APPLE-RADIUS=100;X-TITLE=
 Oyun Botanical Gardens (also Oyun Ministries & Marketplace):geo:0,0
END:VEVENT
BEGIN:VTIMEZONE
TZID:America/New_York
X-LIC-LOCATION:America/New_York
BEGIN:DAYLIGHT
DTSTART:20240310T030000
TZOFFSETFROM:-0500
TZOFFSETTO:-0400
TZNAME:EDT
END:DAYLIGHT
END:VTIMEZONE
END:VCALENDAR