BEGIN:VCALENDAR
VERSION:2.0
PRODID:-//wp-events-plugin.com//7.2.3.1//EN
TZID:America/New_York
X-WR-TIMEZONE:America/New_York
BEGIN:VEVENT
UID:770@breatheatlanta.us
DTSTART;TZID=America/New_York:20250223T123000
DTEND;TZID=America/New_York:20250223T133000
DTSTAMP:20250211T173913Z
URL:https://breatheatlanta.us/events/rb-yin-yoga-relax-restore-february-23
 rd/
SUMMARY:R&B Yin Yoga - Relax & Restore - February 23rd
DESCRIPTION:R&amp\;B Yin Yoga – Relax &amp\; Restore | February 23\, 2025
 \nPrepare to unwind and flow to the smooth melodies of classic and contemp
 orary R&amp\;B at the R&amp\;B Yin Yoga Pop-Up Class on Sunday\, February 
 23\, 2025\, from 12:30 PM to 1:30 PM. This immersive yoga experience is se
 t to the soulful sounds of Boyz II Men\, Monica\, Jagged Edge\, 702\, and 
 more\, creating a deeply relaxing and restorative atmosphere.\n\nWhat to E
 xpect\nThis all-levels class is designed for both beginners and experience
 d yogis\, offering a soothing and meditative practice that encourages rela
 xation\, mindfulness\, and self-care. The session will conclude with a gui
 ded meditation and a special giveaway\, allowing participants to leave fee
 ling refreshed and rejuvenated.\n\n\n 	Doors Open: 12:00 PM (30 minutes be
 fore class starts)\n 	Class Time: 12:30 PM – 1:30 PM\n 	BYOM: Bring Your
  Own Mat\n 	Post-Class Social: Stay and mingle after class!\n\nYoga is a p
 owerful form of self-care\, which in turn\, is an act of self-love. So\, g
 rab your mat\, invite a friend\, and join this soulful experience designed
  to restore both the mind and body.\n\nRefund Policy\nAll ticket sales are
  final. However\, if you are unable to attend\, your ticket can be used fo
 r any future R&amp\;B Yin Yoga Pop-Up Class.\n\nFAQs\n\n 	Do I need previo
 us yoga experience? No\, this class is beginner-friendly.\n 	What should I
  wear? Comfortable yoga attire is recommended.\n 	Are refunds available? N
 o refunds\, but your ticket can be transferred to another pop-up class.\n 
 	Do I need to bring my own yoga mat? Yes\, please bring your own mat.\n\nJ
 oin the R&amp\;B Yin Yoga experience and let the power of music\, movement
 \, and mindfulness restore your soul!\n\n\nGET TICKETS\n
ATTACH;FMTTYPE=image/jpeg:https://breatheatlanta.us/wp-content/uploads/202
 5/02/RB-Yin-Yoga-Relax-Restore-February-23rd.jpg
CATEGORIES:Yoga Events
LOCATION:1483 Chattahoochee Ave NW\, 1483 Chattahoochee Avenue\, Northwest 
 Atlanta\, Atlanta\, 30318 \, GA\, United States
X-APPLE-STRUCTURED-LOCATION;VALUE=URI;X-ADDRESS=1483 Chattahoochee Avenue\,
  Northwest Atlanta\, Atlanta\, 30318 \, GA\, United States;X-APPLE-RADIUS=
 100;X-TITLE=1483 Chattahoochee Ave NW:geo:0,0
END:VEVENT
BEGIN:VTIMEZONE
TZID:America/New_York
X-LIC-LOCATION:America/New_York
BEGIN:STANDARD
DTSTART:20241103T010000
TZOFFSETFROM:-0400
TZOFFSETTO:-0500
TZNAME:EST
END:STANDARD
END:VTIMEZONE
END:VCALENDAR