BEGIN:VCALENDAR
VERSION:2.0
PRODID:-//wp-events-plugin.com//7.2.3.1//EN
TZID:America/New_York
X-WR-TIMEZONE:America/New_York
BEGIN:VEVENT
UID:457@breatheatlanta.us
DTSTART;TZID=America/New_York:20240922T123000
DTEND;TZID=America/New_York:20240922T133000
DTSTAMP:20240915T072319Z
URL:https://breatheatlanta.us/events/rb-yin-yoga-relax-restore/
SUMMARY:R&B Yin Yoga - Relax & Restore
DESCRIPTION:Immerse yourself in a soulful and rejuvenating experience at th
 e upcoming R&amp\;B Yin Yoga: Relax &amp\; Restore pop-up class\, happenin
 g on Sunday\, September 22nd\, from 12:30 PM to 1:30 PM. This special sess
 ion brings together the soothing movements of Yin Yoga with the smooth\, m
 elodic rhythms of Neo Soul R&amp\;B hits. Flow and unwind to the iconic so
 unds of Erykah Badu\, D'Angelo\, Jill Scott\, Anthony Hamilton\, and more\
 , creating the perfect ambiance for relaxation and self-care.\n\nDesigned 
 to be all-levels friendly\, this class is ideal for both beginners and sea
 soned yogis alike. Whether you're new to Yin Yoga or looking for a fresh w
 ay to deepen your practice\, this hour-long session will help you relax\, 
 stretch\, and restore balance. Set to a backdrop of classic and modern R&a
 mp\;B tunes\, the class offers a unique and immersive way to connect with 
 your body and unwind from the stresses of the week.\n\nBe sure to BYOM (Br
 ing Your Own Mat) and arrive early! Doors open at noon\, giving you plenty
  of time to settle in before class begins. After the session\, there will 
 be a chance to mingle with others in the community\, participate in a give
 away\, and enjoy a short guided meditation to leave you feeling completely
  refreshed and centered.\n\nThis event is more than just a yoga class—it
 's a celebration of self-care\, self-love\, and soulful connection. So gra
 b your mat\, invite a friend\, and join us for an unforgettable experience
  that blends the peaceful practice of Yin Yoga with the timeless beauty of
  R&amp\;B music.\n\nGET TICKETS\n
ATTACH;FMTTYPE=image/jpeg:https://breatheatlanta.us/wp-content/uploads/202
 4/09/RB-Yin-Yoga-Relax-Restore.jpg
CATEGORIES:Things To Do,Wellness Events,Yoga Events
LOCATION:1483 Chattahoochee Ave NW\,  1483 Chattahoochee Avenue \, Northwes
 t Atlanta\, \, United States\, 30318 \, GA \, United States
X-APPLE-STRUCTURED-LOCATION;VALUE=URI;X-ADDRESS= 1483 Chattahoochee Avenue 
 \, Northwest Atlanta\, \, United States\, 30318 \, GA \, United States;X-A
 PPLE-RADIUS=100;X-TITLE=1483 Chattahoochee Ave NW:geo:0,0
END:VEVENT
BEGIN:VTIMEZONE
TZID:America/New_York
X-LIC-LOCATION:America/New_York
BEGIN:DAYLIGHT
DTSTART:20240310T030000
TZOFFSETFROM:-0500
TZOFFSETTO:-0400
TZNAME:EDT
END:DAYLIGHT
END:VTIMEZONE
END:VCALENDAR