BEGIN:VCALENDAR
VERSION:2.0
PRODID:-//wp-events-plugin.com//7.2.3.1//EN
TZID:America/New_York
X-WR-TIMEZONE:America/New_York
BEGIN:VEVENT
UID:49@breatheatlanta.us
DTSTART;TZID=America/New_York:20240426T110000
DTEND;TZID=America/New_York:20240428T170000
DTSTAMP:20240322T104802Z
URL:https://breatheatlanta.us/events/re-treat-her/
SUMMARY:Re-Treat Her
DESCRIPTION:Re-Treat Her beckons with promises of a weekend dedicated to pa
 mpering\, self-care\, and prioritizing the well-being of all incredible wo
 men\, simply because they deserve it! This event is designed to offer a sa
 nctuary where women can indulge in relaxation\, rejuvenation\, and connect
 ion with like-minded souls. It's a heartfelt invitation to embrace a weeke
 nd of self-love\, empowerment\, and renewal\, ensuring that every woman le
 aves feeling cherished and rejuvenated.\n\nEvent Information:\n\nDate and 
 Time: Friday\, April 26\, 11:00 a.m. - Sunday\, April 28\, 5:00 p.m. EDT\n
 \nDuration:2 days 6 hours\n\nLocation: Embassy Suites by Hilton Alpharetta
  Halcyon\, Market Street\, Alpharetta\, GA\, USA\n\nTicket Price:\n\nGener
 al Admission:\n\nPrice: $150.00\n\nFee: $11.90\n\nSales Tax: $12.55\n\nDis
 count applied\n\nSales end on Apr 26\, 2024\n\nVIP #HisWife:\n\nPrice: $17
 5.00\n\nFee: $13.58\n\nSales Tax: $14.61\n\nDiscount applied.\n\nSales end
  on Apr 26\, 2024\n\n&nbsp\;\n\nGET TICKETS\n\nAbout this Event: Re-Treat 
 Her offers a weekend dedicated to pampering\, self-care\, and prioritizing
  the well-being of women. Hosted by Coach Tanika\, this event promises ind
 ulgent wellness treatments\, delicious cuisine\, and opportunities to conn
 ect with like-minded women. Whether seeking relaxation or rejuvenation\, a
 ttendees will find this in-person gathering designed to revitalize the min
 d\, body\, and soul.\n\nWorkout Session Detail: The event agenda includes:
 \n\nFriday Agenda:\n\n6:30 AM - 7:30 AM: Hip Hop Cardio with Flossin Fit S
 tudios (Rejuvenate Her)\n\n11:00 AM - 2:30 PM: Meet and Greet with Coach T
  (Revive Her: Coach T’s Book Signing for Her First Wife Self-Help Guide)
 \n\n6:00 PM - 9:30 PM: Sunflower Ceremony with Coach T\, Jolanda Logan\, a
 nd Gerri Whye (Renew Her: Dress in your most cherished formal sunflower at
 tire)\n\nSaturday Agenda:\n\n9:00 AM - 6:00 PM: Transformational Wellness 
 Workshop with Sierra Hilaire\, Self-Care Strategist (Restore Her: Immerse 
 yourself in a transformative experience)\n\nSunday Agenda:\n\n7:30 AM - 9:
 30 AM: VIP Breakfast with #HisWife hosted by Coach T (Reconnect Her: Savor
  the exclusivity of Sunday)\n\nEssentials to Bring: Attendees are encourag
 ed to bring any personal items they may need for comfort during the event\
 , such as toiletries\, comfortable clothing\, and any specific items for r
 elaxation or self-care.\n\nParking Option: Details about parking options a
 t Embassy Suites by Hilton Alpharetta Halcyon are not provided. Attendees 
 are advised to inquire with the venue or event organizer for parking arran
 gements.
ATTACH;FMTTYPE=image/jpeg:https://breatheatlanta.us/wp-content/uploads/202
 4/03/https___cdn.evbuc_.com_images_678022519_1627164171393_1_original.jpg
CATEGORIES:Wellness Events
LOCATION:Hilton Alpharetta Halcyon\, 6430 Market Street 6430 Market Street 
 Alpharetta\, GA 30005 United States\, Alpharetta\, United States\, 30005 \
 , GA\, United States
X-APPLE-STRUCTURED-LOCATION;VALUE=URI;X-ADDRESS=6430 Market Street 6430 Mar
 ket Street Alpharetta\, GA 30005 United States\, Alpharetta\, United State
 s\, 30005 \, GA\, United States;X-APPLE-RADIUS=100;X-TITLE=Hilton Alpharet
 ta Halcyon:geo:0,0
END:VEVENT
BEGIN:VTIMEZONE
TZID:America/New_York
X-LIC-LOCATION:America/New_York
BEGIN:DAYLIGHT
DTSTART:20240310T030000
TZOFFSETFROM:-0500
TZOFFSETTO:-0400
TZNAME:EDT
END:DAYLIGHT
END:VTIMEZONE
END:VCALENDAR