BEGIN:VCALENDAR
VERSION:2.0
PRODID:-//wp-events-plugin.com//7.2.3.1//EN
TZID:America/New_York
X-WR-TIMEZONE:America/New_York
BEGIN:VEVENT
UID:144@breatheatlanta.us
DTSTART;TZID=America/New_York:20240427T140000
DTEND;TZID=America/New_York:20240427T190000
DTSTAMP:20240905T135640Z
URL:https://breatheatlanta.us/events/recharge-wellness-fest/
SUMMARY:Recharge Wellness Fest 2024
DESCRIPTION:Event Information:\n\n\n\n\nDiscover the epitome of wellness an
 d celebration at Kulani's RECHARGE Fest 2024\, where you'll experience a d
 ay filled with rejuvenation\, entertainment\, and holistic well-being acti
 vities. Join us for an unforgettable journey toward optimal wellness!\n\n\
 n\n\n\n 	Date and Time: Saturday\, April 27 · 2 - 7 pm EDT\n 	Location: J
 . P. MOSELEY PARK\, 1041 Millers Mill Rd Stockbridge\, GA 30281 United Sta
 tes\n\nAbout this Event:\n\nKulani's RECHARGE Fest 2024 is the ultimate we
 llness festival\, bringing together the best in wellness including food\, 
 music\, giveaways\, and more! Join us for an unforgettable day of rejuvena
 tion and celebration.\n\nTicket Information:\n\nContact Kulani Spa for ven
 dor or sponsorship opportunities.\n\n&nbsp\;\n\nGET TICKETS\n\nWorkout Ses
 sion Detail:\n\nThe festival features various wellness activities and expe
 riences.\n\nEssential for Bring:\n\n 	Positive energy and enthusiasm\n 	Co
 mfortable attire for outdoor activities\n 	Contact Kulani Spa for specific
  requirements or details\n\nParking Option:\n\nAvailable at J. P. MOSELEY 
 PARK.\n\nExperience the pinnacle of wellness\n\n\n\n\nand celebration at K
 ulani's RECHARGE Fest 2024!\n\n\n\n
ATTACH;FMTTYPE=image/jpeg:https://breatheatlanta.us/wp-content/uploads/202
 4/03/Wellness-Fest.jpg
CATEGORIES:Wellness Events
LOCATION:J. P. MOSELEY PARK\, 1041 Millers Mill Rd Stockbridge\, GA 30281 U
 nited States\, Stockbridge\, GA\, 30281\, GA\, United States
X-APPLE-STRUCTURED-LOCATION;VALUE=URI;X-ADDRESS=1041 Millers Mill Rd Stockb
 ridge\, GA 30281 United States\, Stockbridge\, GA\, 30281\, GA\, United St
 ates;X-APPLE-RADIUS=100;X-TITLE=J. P. MOSELEY PARK:geo:0,0
END:VEVENT
BEGIN:VTIMEZONE
TZID:America/New_York
X-LIC-LOCATION:America/New_York
BEGIN:DAYLIGHT
DTSTART:20240310T030000
TZOFFSETFROM:-0500
TZOFFSETTO:-0400
TZNAME:EDT
END:DAYLIGHT
END:VTIMEZONE
END:VCALENDAR