BEGIN:VCALENDAR
VERSION:2.0
PRODID:-//wp-events-plugin.com//7.2.3.1//EN
TZID:America/New_York
X-WR-TIMEZONE:America/New_York
BEGIN:VEVENT
UID:142@breatheatlanta.us
DTSTART;TZID=America/New_York:20240418T190000
DTEND;TZID=America/New_York:20240418T210000
DTSTAMP:20240905T135500Z
URL:https://breatheatlanta.us/events/reclaim-your-health/
SUMMARY:Reclaim Your Health
DESCRIPTION:Event Information:\n\nExplore integrative wellness tools like e
 ssential oils and supplements in a dynamic session focused on reclaiming y
 our health. Empower your wellness journey with actionable insights and eas
 y steps!\n\n 	Date and Time: Thursday\, April 18 · 7 - 9 pm EDT\n 	Locati
 on: Omega Support Center\, 2001 Montreal Road Suite 101 Tucker\, GA 30084 
 United States\n\nAbout this Event:\n\n"Reclaim Your Health" is an interact
 ive class focused on integrative functional &amp\; holistic wellness using
  natural tools such as essential oils and supplements. The session will co
 ver topics including Nutrition &amp\; Digestion\, Movement\, Metabolism\, 
 Rest\, Manage Stress\, and Reduce Toxicity.\n\nTicket Information:\n\n 	Co
 st: $10\n 	Includes: Samples and DIY natural products made in the class\n\
 n&nbsp\;\n\nGET TICKETS\n\nWorkout Session Detail:\n\nParticipants will le
 arn easy steps to better their health and become proactive in their wellne
 ss journey.\n\nEssential for Bring:\n\n 	Open mind to learn about natural 
 tools for health improvement\n 	$10 for the ticket\n 	Comfortable attire f
 or the event\n\nParking Option:\n\nAvailable at the Omega Support Center l
 ocation.\n\nOverall\, the event promises an educational and empowering exp
 erience for attendees interested in enhancing their health using natural m
 ethods.
ATTACH;FMTTYPE=image/jpeg:https://breatheatlanta.us/wp-content/uploads/202
 4/03/HEALTH.jpg
CATEGORIES:Wellness Events
LOCATION:Omega Support Center\, 2001 Montreal Road Suite 101 Tucker\, GA 30
 084 United States\, Tucker\, GA\, 30084\, GA\, United States
X-APPLE-STRUCTURED-LOCATION;VALUE=URI;X-ADDRESS=2001 Montreal Road Suite 10
 1 Tucker\, GA 30084 United States\, Tucker\, GA\, 30084\, GA\, United Stat
 es;X-APPLE-RADIUS=100;X-TITLE=Omega Support Center:geo:0,0
END:VEVENT
BEGIN:VTIMEZONE
TZID:America/New_York
X-LIC-LOCATION:America/New_York
BEGIN:DAYLIGHT
DTSTART:20240310T030000
TZOFFSETFROM:-0500
TZOFFSETTO:-0400
TZNAME:EDT
END:DAYLIGHT
END:VTIMEZONE
END:VCALENDAR