BEGIN:VCALENDAR
VERSION:2.0
PRODID:-//wp-events-plugin.com//7.2.3.1//EN
TZID:America/New_York
X-WR-TIMEZONE:America/New_York
BEGIN:VEVENT
UID:785@breatheatlanta.us
DTSTART;TZID=America/New_York:20250223T093000
DTEND;TZID=America/New_York:20250223T140000
DTSTAMP:20250212T124444Z
URL:https://breatheatlanta.us/events/recover-revive/
SUMMARY:Recover & Revive
DESCRIPTION:Recover &amp\; Revive – Prioritize Wellness\, Enhance Your Fi
 tness Journey\nAchieving fitness goals isn’t just about pushing harder
 —it’s also about intentional recovery\, self-care\, and mental well-be
 ing. Recover &amp\; Revive is a transformative event designed to highlight
  the often-overlooked aspects of health and fitness\, providing attendees 
 with the tools they need to restore balance\, enhance progress\, and culti
 vate long-term wellness.\nWhether participants are just beginning their fi
 tness journey or are seasoned athletes\, this event offers a comprehensive
  approach to optimizing physical and mental health. By focusing on recover
 y techniques\, self-care practices\, and strategies for mental resilience\
 , attendees will leave feeling stronger\, more balanced\, and reconnected 
 with their personal well-being.\n\nWhat to Expect:\n✔️ Expert-Led Reco
 very Techniques – Learn how to properly recover and prevent burnout for 
 sustained fitness success.✔️ Self-Care Strategies – Discover practic
 al methods to support physical and mental rejuvenation.✔️ Mindfulness 
 &amp\; Mental Wellness – Gain insights into cultivating a positive minds
 et that fuels motivation and growth.✔️ Interactive Workshops &amp\; Di
 scussions – Engage with professionals and a like-minded community focuse
 d on holistic well-being.\n\nFrequently Asked Questions:\nWho is this even
 t for?\n\n\n 	This event is designed for fitness enthusiasts\, athletes\, 
 beginners\, and anyone seeking to integrate wellness and self-care into th
 eir lifestyle.\n\nWhat’s included with my ticket?\n\n\n 	A curated welln
 ess experience featuring expert guidance\, engaging workshops\, and valuab
 le takeaways to support recovery and personal growth.\n\nWhat should I bri
 ng?\n\n\n 	Comfortable attire\, a yoga mat (if needed for certain sessions
 )\, a water bottle\, and an open mindset ready to embrace restoration and 
 revival.\n\nHow do I contact the organizer?\n\n\n 	For inquiries\, event d
 etails\, or ticket information\, please reach out to the event organizers 
 through the official contact channels.\n\n💡 Wellness is more than just 
 movement—it’s about recovery\, self-care\, and mental strength. Don’
 t miss this opportunity to elevate your fitness journey with a renewed sen
 se of balance\, vitality\, and happiness.\n📍 Reserve your spot today an
 d invest in your well-being!\n\n\nGET TICKETS\n
ATTACH;FMTTYPE=image/jpeg:https://breatheatlanta.us/wp-content/uploads/202
 5/02/Recover-Revive.jpg
CATEGORIES:Wellness Events
LOCATION:The Union Fit Hub\, 828 Ralph McGill Boulevard Northeast\, w4 Atla
 nta\, 30306\, GA\, United States
X-APPLE-STRUCTURED-LOCATION;VALUE=URI;X-ADDRESS=828 Ralph McGill Boulevard 
 Northeast\, w4 Atlanta\, 30306\, GA\, United States;X-APPLE-RADIUS=100;X-T
 ITLE=The Union Fit Hub:geo:0,0
END:VEVENT
BEGIN:VTIMEZONE
TZID:America/New_York
X-LIC-LOCATION:America/New_York
BEGIN:STANDARD
DTSTART:20241103T010000
TZOFFSETFROM:-0400
TZOFFSETTO:-0500
TZNAME:EST
END:STANDARD
END:VTIMEZONE
END:VCALENDAR