BEGIN:VCALENDAR
VERSION:2.0
PRODID:-//wp-events-plugin.com//7.2.3.1//EN
TZID:America/New_York
X-WR-TIMEZONE:America/New_York
BEGIN:VEVENT
UID:98@breatheatlanta.us
DTSTART;TZID=America/New_York:20240414T130000
DTEND;TZID=America/New_York:20240414T150000
DTSTAMP:20240320T073940Z
URL:https://breatheatlanta.us/events/reiki-infused-restorative-yoga-medita
 tion/
SUMMARY:Reiki Infused RESTORATIVE Yoga & Meditation
DESCRIPTION:Reiki\, Yoga\, and Meditation intertwine harmoniously to nurtur
 e a state of tranquility within the mind and nervous system. Together\, th
 ey guide you on a journey inward\, allowing you to center your awareness o
 n the gentle rhythm of your breath.\n\nEvent Information:\n\nEvent Name: R
 eiki Infused RESTORATIVE Yoga &amp\; Meditation\n\nHost: Tiffany Monroe\, 
 Founder &amp\; CEO/President of Healing Hands Reiki &amp\; Spiritual Devel
 opment\, Inc.\n\nDate and Time: Sunday\, April 14\, 1:00 - 3:00 PM EDT\n\n
 Location: Healing Hands Reiki &amp\; Spiritual Development\, Inc.\, 27 Wad
 dell St NE Suite #A\, Atlanta\, GA 30307\, United States\n\nTicket Informa
 tion:\n\nReiki Infused RESTORATIVE Yoga &amp\; Meditation: $25.00\n\nFees:
  $3.45\n\nDelivery: eTicket\, no additional charge\n\nTotal: $28.45\n\n&nb
 sp\;\n\nGET TICKETS\n\nWorkout Session Detail:\n\nDuration: 2 hours\n\nRes
 torative yoga combined with Reiki-infused meditation\n\nFocus on deep rela
 xation and healing of mind\, body\, and spirit\n\nEssential for Bring:\n\n
 Comfortable clothing suitable for yoga\n\nJournal or composition book for 
 journaling\n\nAn open mind and willingness to explore inner healing\n\nPar
 king Option:\n\nParking is available at the Healing Hands Reiki &amp\; Spi
 ritual Development location.\n\nRefund Policy:\n\nRefunds are available up
  to 1 day before the event. Contact the organizer to request a refund. Eve
 ntbrite's fee is nonrefundable.\n\nAbout this Event:\n\nIndulge in the ser
 enity of Reiki Infused RESTORATIVE Yoga &amp\; Meditation\, curated by Tif
 fany Monroe\, a distinguished Reiki Master Teacher and Founder of Healing 
 Hands Reiki &amp\; Spiritual Development\, Inc. This two-hour immersive ex
 perience invites you to delve into deep relaxation and inner healing as yo
 u blend the restorative practice of yoga with the transformative energy of
  Reiki.\n\nDisclaimer:\n\nBy attending this event\, you agree to the terms
  outlined in the liability waiver provided by Healing Hands Reiki &amp\; S
 piritual Development\, Inc. Please carefully read and understand the relea
 se of liability and photo/video release statements before participating in
  the session. If you have any concerns or questions\, feel free to contact
  the organizer.
ATTACH;FMTTYPE=image/jpeg:https://breatheatlanta.us/wp-content/uploads/202
 4/03/588.jpg
CATEGORIES:Wellness Events,Yoga Events
LOCATION:Healing Hands Reiki & Spiritual Development\, 27 Waddell St NE Sui
 te #A Atlanta\, GA 30307 United States\, GA\, United States\,  30307 \, GA
 \, United States
X-APPLE-STRUCTURED-LOCATION;VALUE=URI;X-ADDRESS=27 Waddell St NE Suite #A A
 tlanta\, GA 30307 United States\, GA\, United States\,  30307 \, GA\, Unit
 ed States;X-APPLE-RADIUS=100;X-TITLE=Healing Hands Reiki & Spiritual Devel
 opment:geo:0,0
END:VEVENT
BEGIN:VTIMEZONE
TZID:America/New_York
X-LIC-LOCATION:America/New_York
BEGIN:DAYLIGHT
DTSTART:20240310T030000
TZOFFSETFROM:-0500
TZOFFSETTO:-0400
TZNAME:EDT
END:DAYLIGHT
END:VTIMEZONE
END:VCALENDAR