BEGIN:VCALENDAR
VERSION:2.0
PRODID:-//wp-events-plugin.com//7.2.3.1//EN
TZID:America/New_York
X-WR-TIMEZONE:America/New_York
BEGIN:VEVENT
UID:670@breatheatlanta.us
DTSTART;TZID=America/New_York:20241025T100000
DTEND;TZID=America/New_York:20241025T173000
DTSTAMP:20241018T105049Z
URL:https://breatheatlanta.us/events/reiki-master-certification/
SUMMARY:Reiki Master Certification
DESCRIPTION:The Reiki Master Certification program offers a transformative 
 healing experience for those who have completed Reiki Two. This workshop i
 s designed to elevate participants’ healing abilities while deepening th
 eir intuitive skills. With over 25 years of experience as a healer and hav
 ing trained more than 1\,000 students\, the instructor brings a wealth of 
 knowledge and expertise to the class.\n\nThroughout the course\, participa
 nts will engage in various modalities of healing\, including Sound Healing
 \, which enhances the overall experience and promotes deeper relaxation an
 d awareness. Upon successful completion of this workshop\, attendees will 
 be certified as Reiki Masters and will have the ability to teach future cl
 asses.\n\nThe Reiki Master Class covers a comprehensive range of topics\, 
 including:\n\n 	Reiki Master Sacred Symbols: Understanding and utilizing t
 he symbols unique to the Reiki Master level.\n 	Hara Line/Circuit of Chi/H
 ui Yin: Exploring the energy pathways within the body and their importance
  in Reiki healing.\n 	Reiki Meditation/Attunement: Engaging in meditative 
 practices that align and elevate one's healing energy.\n 	Reiki Master Man
 ual: A detailed resource to guide students in their practice and teachings
 .\n 	Spirit Release: Techniques for releasing unwanted energies and facili
 tating spiritual healing.\n 	Psychic Surgery: Learning methods to address 
 and heal deeper emotional and spiritual wounds.\n 	Dependency\, Crushes\, 
 and Sexual Energy: Addressing personal attachments and how they impact one
 's energy.\n 	Developing Your Practice/Creating a Class/Forms: Guidance on
  establishing a successful Reiki practice and structuring classes.\n 	Inst
 ruction on How to Give Reiki Attunements: Mastering the art of attuning ot
 hers to different levels of Reiki energy.\n 	Reiki Practice Session: Hands
 -on practice to reinforce skills learned in the course.\n 	Special Reiki G
 ift: A unique token to commemorate the completion of the certification.\n\
 nThis Reiki Master Certification workshop not only equips individuals with
  the tools necessary for advanced healing practices but also fosters a sup
 portive community of like-minded practitioners. Participants will leave wi
 th newfound skills\, a deeper understanding of Reiki\, and the confidence 
 to lead their own classes.\n\nGET TICKETS\n
ATTACH;FMTTYPE=image/jpeg:https://breatheatlanta.us/wp-content/uploads/202
 4/10/Reiki-Master-Certification.jpg
CATEGORIES:Things To Do,Wellness Events
LOCATION:Chakra Balance Denise\, 3121 Maple Drive Northeast #2nd floor Ste 
 220\, Atlanta\, Georgia\, 30305\,  GA\, United States
X-APPLE-STRUCTURED-LOCATION;VALUE=URI;X-ADDRESS=3121 Maple Drive Northeast 
 #2nd floor Ste 220\, Atlanta\, Georgia\, 30305\,  GA\, United States;X-APP
 LE-RADIUS=100;X-TITLE=Chakra Balance Denise:geo:0,0
END:VEVENT
BEGIN:VTIMEZONE
TZID:America/New_York
X-LIC-LOCATION:America/New_York
BEGIN:DAYLIGHT
DTSTART:20240310T030000
TZOFFSETFROM:-0500
TZOFFSETTO:-0400
TZNAME:EDT
END:DAYLIGHT
END:VTIMEZONE
END:VCALENDAR