BEGIN:VCALENDAR
VERSION:2.0
PRODID:-//wp-events-plugin.com//7.2.3.1//EN
TZID:America/New_York
X-WR-TIMEZONE:America/New_York
BEGIN:VEVENT
UID:689@breatheatlanta.us
DTSTART;TZID=America/New_York:20241123T153000
DTEND;TZID=America/New_York:20241123T173000
DTSTAMP:20241024T152924Z
URL:https://breatheatlanta.us/events/reiki-share-2/
SUMMARY:Reiki Share
DESCRIPTION:A Reiki share\, often referred to as a Reiki circle or exchange
 \, is a gathering of like-minded Reiki practitioners who come together to 
 participate in group healing sessions. This event provides an excellent op
 portunity for former students and community members who have completed Rei
 ki training at Level One or higher to collaborate and channel healing ener
 gies as a collective. During the session\, participants engage in practice
 s such as grounding\, meditation\, energy scanning\, protection techniques
 \, and intuitive readings.\n\nClass Information:\n\n 	Donation: The sugges
 ted donation for participation is $21\, with proceeds supporting Healing H
 ands Reiki and Spiritual Development Inc.\, a recognized 501(c)(3) nonprof
 it organization. As such\, all donations are tax-deductible.\n 	Registrati
 on: Attendees must register via Eventbrite or by phone at least one hour b
 efore the class.\n 	Late Arrivals: If participants arrive more than five m
 inutes late\, they should attend the next scheduled class.\n 	Footwear Pol
 icy: No shoes are permitted in the Shala\; participants must place their s
 hoes in the designated area.\n\nInstructor: Tiffany N. Monroe\n\n 	Founder
  and CEO of Healing Hands Reiki &amp\; Spiritual Development\, Inc.\n 	Usu
 i/Holy Fire® III Reiki Master Teacher\n 	Usui Shiki Ryoho Reiki Master Te
 acher\n 	Sekhmet Master Teacher\n 	Seichim Reiki Master Teacher\n 	Member 
 of the Reiki Healing Association (RHA)\n 	Affiliate Member of the Reiki Me
 mbers Association (RMA)\n 	Member of the International Association of Reik
 i Professionals (IARP)\n 	Ashtanga Yoga Student &amp\; Assistant at Ashtan
 ga Yoga Atlanta\n 	RYT500 Certified\n 	Meditation Facilitator\n 	Biochemis
 t and Product Developer\n 	Educator at both Secondary and University Level
 s\n 	Ordained Minister\, ULC\n\nMission Statement: Healing Hands Reiki\, I
 nc. is dedicated to empowering individuals to engage in their own healing 
 processes by integrating Reiki into healthcare systems and community-based
  organizations\, fostering a supportive wellness community.\n\nVision Stat
 ement: The organization aims to educate and inspire individuals to lead op
 timal lives\, transforming their capacity to heal and achieve balance.\n\n
 Services Provided:\n\n 	Reiki energy treatments and attunements\n 	Hands-o
 n practice through Reiki share groups\n 	Educational workshops for medical
  professionals and caregivers\n 	Instructional Reiki training with certifi
 cation\n 	Yoga\, meditation\, and other classes for personal development\n
  	Spiritual support from ordained ministers of all faiths\n 	A selection o
 f spiritual products and tools\n\nThrough its classes and outreach initiat
 ives\, Healing Hands Reiki promotes Reiki as a complementary holistic prac
 tice that enhances health\, well-being\, and harmony. Participants learn t
 o recognize the interconnectedness of mind\, body\, emotions\, and spirit\
 , fostering a state of well-being through holistic practices.\n\nStay Conn
 ected:\n\n 	Donate: Support Us Here\n 	Website: Healing Hands Reiki\n 	Fac
 ebook: Follow Us on Facebook\n 	Twitter: @healingreikiatl\n 	Instagram: @h
 ealinghandsreikiatl\n 	YouTube: Watch "Healing Hands Reiki &amp\; Spiritua
 l Development Inc." here.\n\nDisclaimer:\nBy attending the class\, partici
 pants grant Healing Hands Reiki and Spiritual Development Inc. permission 
 to use their likeness in photos or videos for any publications without com
 pensation.\n\nLiability Waiver:\nParticipants acknowledge that they are re
 sponsible for assessing the appropriateness of their involvement and under
 stand that Reiki is a gentle energy technique for stress reduction and rel
 axation. They release the instructors and the organization from any liabil
 ity for benefits or injuries that may arise during participation. Reiki is
  not a substitute for medical treatment\, and individuals should consult l
 icensed professionals for health issues. Comfortable clothing is required\
 , and any discomfort during the session should be communicated immediately
 .\n\nGET TICKETS\n
ATTACH;FMTTYPE=image/jpeg:https://breatheatlanta.us/wp-content/uploads/202
 4/10/Reiki-Share.jpeg
CATEGORIES:Wellness Events
LOCATION:Healing Hands Reiki & Spiritual Development\, 27 Waddell Street Su
 ite\, A Atlanta\, 30307\, GA\, United States
X-APPLE-STRUCTURED-LOCATION;VALUE=URI;X-ADDRESS=27 Waddell Street Suite\, A
  Atlanta\, 30307\, GA\, United States;X-APPLE-RADIUS=100;X-TITLE=Healing H
 ands Reiki & Spiritual Development:geo:0,0
END:VEVENT
BEGIN:VTIMEZONE
TZID:America/New_York
X-LIC-LOCATION:America/New_York
BEGIN:STANDARD
DTSTART:20241103T010000
TZOFFSETFROM:-0400
TZOFFSETTO:-0500
TZNAME:EST
END:STANDARD
END:VTIMEZONE
END:VCALENDAR