BEGIN:VCALENDAR
VERSION:2.0
PRODID:-//wp-events-plugin.com//7.2.3.1//EN
TZID:America/New_York
X-WR-TIMEZONE:America/New_York
BEGIN:VEVENT
UID:329@breatheatlanta.us
DTSTART;TZID=America/New_York:20240727T153000
DTEND;TZID=America/New_York:20240727T173000
DTSTAMP:20240627T053141Z
URL:https://breatheatlanta.us/events/reiki-share/
SUMMARY:Reiki Share
DESCRIPTION:Reiki Share\, also known as a Reiki circle or exchange\, is a c
 ommunal gathering where like-minded Reiki practitioners come together to p
 articipate in group healing sessions. This event offers a supportive envir
 onment for former students and community members who have studied Reiki at
  Level One or higher to connect\, practice\, and enhance their skills.\n\n
 Event Details:\n\n 	Participants: Open to all Reiki practitioners who have
  completed at least Level One training.\n 	Activities: Engage in various a
 ctivities such as grounding exercises\, meditation\, energy scanning\, pro
 tection techniques\, healing practices\, and intuitive readings.\n\nWhat t
 o Expect:\n\n 	Group Healing Treatments: Practitioners will work together 
 in group settings to give and receive Reiki\, enhancing their healing abil
 ities and learning from each other.\n 	Skill Enhancement: Opportunity to r
 efine and practice different Reiki techniques in a collaborative environme
 nt.\n 	Community Building: Connect with other Reiki practitioners\, share 
 experiences\, and build a supportive network.\n\nWhy Attend:\n\n 	Continue
 d Learning: Perfect for those looking to deepen their understanding and ap
 plication of Reiki.\n 	Holistic Development: Improve your grounding\, ener
 gy scanning\, and intuitive reading skills.\n 	Supportive Environment: Wor
 k with a community of practitioners dedicated to healing and personal grow
 th.\n\nJoin Us:\n\nDon't miss the chance to enhance your Reiki practice in
  a nurturing and collaborative setting. Join the Reiki Share to experience
  the power of collective healing and strengthen your connection to the hea
 ling energies. Whether you're looking to refine your techniques or simply 
 connect with other practitioners\, this event is the perfect opportunity f
 or personal and professional growth.\n\nGET TICKETS\n
ATTACH;FMTTYPE=image/jpeg:https://breatheatlanta.us/wp-content/uploads/202
 4/06/Reiki-Share.jpg
CATEGORIES:Mindfulness Events,Wellness Events
LOCATION:Healing Hands Reiki & Spiritual Development\, 27 Waddell St NE Sui
 te #A Atlanta\, GA 30307 United States\, GA\, United States\,  30307 \, GA
 \, United States
X-APPLE-STRUCTURED-LOCATION;VALUE=URI;X-ADDRESS=27 Waddell St NE Suite #A A
 tlanta\, GA 30307 United States\, GA\, United States\,  30307 \, GA\, Unit
 ed States;X-APPLE-RADIUS=100;X-TITLE=Healing Hands Reiki & Spiritual Devel
 opment:geo:0,0
END:VEVENT
BEGIN:VTIMEZONE
TZID:America/New_York
X-LIC-LOCATION:America/New_York
BEGIN:DAYLIGHT
DTSTART:20240310T030000
TZOFFSETFROM:-0500
TZOFFSETTO:-0400
TZNAME:EDT
END:DAYLIGHT
END:VTIMEZONE
END:VCALENDAR