BEGIN:VCALENDAR
VERSION:2.0
PRODID:-//wp-events-plugin.com//7.2.3.1//EN
TZID:America/New_York
X-WR-TIMEZONE:America/New_York
BEGIN:VEVENT
UID:414@breatheatlanta.us
DTSTART;TZID=America/New_York:20240809T190000
DTEND;TZID=America/New_York:20240809T201500
DTSTAMP:20240802T200713Z
URL:https://breatheatlanta.us/events/relax-flow-friday-evening-sound-bath/
SUMMARY:Relax & Flow Friday: Evening Sound Bath
DESCRIPTION:Welcome to Serenity &amp\; Sound: Evening Bliss at The Wellness
  Studio! Join us at The Wellness Studio at ProMotion in Grayson for a tran
 quil evening designed to rejuvenate your entire being. This special event\
 , featuring an immersive sound bath experience\, is crafted to help you re
 lease the stresses of the week and find deep relaxation.\n\nEvent Overview
 :\n\nSerenity &amp\; Sound offers a calming retreat where you can experien
 ce the therapeutic power of sound. As you settle in\, let the soothing vib
 rations of our sound bath gently envelop you\, guiding you into a state of
  profound peace and relaxation. This session is ideal for both seasoned pr
 actitioners and those new to sound therapy\, offering a restorative experi
 ence for all.\n\nWhat to Expect:\n\n 	Healing Vibrations: Immerse yourself
  in the resonant tones and frequencies of the sound bath\, designed to har
 monize and rejuvenate your mind\, body\, and soul.\n 	Deep Relaxation: All
 ow the gentle sounds to wash over you\, helping to alleviate stress and pr
 omote a sense of inner calm.\n 	Open to All: Whether you're experienced wi
 th sound baths or exploring for the first time\, this evening is tailored 
 to provide a blissful and restorative experience for everyone.\n\nIndulge 
 in a well-deserved evening of self-care and relaxation. Don’t miss this 
 opportunity to unwind and recharge in a serene setting. We look forward to
  sharing this blissful experience with you!\n\nGET TICKETS\n
ATTACH;FMTTYPE=image/jpeg:https://breatheatlanta.us/wp-content/uploads/202
 4/08/Relax-Flow-Friday-Evening-Sound-Bath.jpg
CATEGORIES:Mindfulness Events,Things To Do,Wellness Events
LOCATION:Wellness Studio\, 20 Grayson New Hope Road Grayson\, Atlanta\, Geo
 rgia\, 30017\, GA\, United States
X-APPLE-STRUCTURED-LOCATION;VALUE=URI;X-ADDRESS=20 Grayson New Hope Road Gr
 ayson\, Atlanta\, Georgia\, 30017\, GA\, United States;X-APPLE-RADIUS=100;
 X-TITLE=Wellness Studio:geo:0,0
END:VEVENT
BEGIN:VTIMEZONE
TZID:America/New_York
X-LIC-LOCATION:America/New_York
BEGIN:DAYLIGHT
DTSTART:20240310T030000
TZOFFSETFROM:-0500
TZOFFSETTO:-0400
TZNAME:EDT
END:DAYLIGHT
END:VTIMEZONE
END:VCALENDAR