BEGIN:VCALENDAR
VERSION:2.0
PRODID:-//wp-events-plugin.com//7.2.3.1//EN
TZID:America/New_York
X-WR-TIMEZONE:America/New_York
BEGIN:VEVENT
UID:660@breatheatlanta.us
DTSTART;TZID=America/New_York:20241025T180000
DTEND;TZID=America/New_York:20241026T220000
DTSTAMP:20241018T092928Z
URL:https://breatheatlanta.us/events/relentlessly-rooted-overflow-conferen
 ce-24/
SUMMARY:Relentlessly Rooted Overflow Conference 24
DESCRIPTION:Prepare for a transformative experience at the Relentlessly Roo
 ted Overflow Conference 2024\, taking place in Atlanta. This dynamic event
  is crafted for individuals eager to push past limitations\, embrace their
  authentic selves\, and unlock their highest potential.\n\nJoin a communit
 y of like-minded professionals and visionaries for a day filled with inspi
 ring keynote speakers\, interactive workshops\, and invaluable networking 
 opportunities. The conference will feature top industry leaders who will s
 hare powerful insights and strategies to help you break barriers\, cultiva
 te resilience\, and propel your personal and professional growth forward.\
 n\nAt Relentlessly Rooted Overflow 2024\, attendees can expect:\n\n 	Inspi
 ring Keynotes from renowned thought leaders and innovators who will challe
 nge your mindset and ignite your passion.\n 	Engaging Workshops tailored t
 o provide actionable tools for success in both personal and career develop
 ment.\n 	Networking Opportunities to connect with individuals who share yo
 ur drive for growth and transformation\, fostering new relationships and c
 ollaborations.\n\nWhether you're looking to sharpen your skills\, expand y
 our network\, or simply reignite your purpose\, this conference promises t
 o deliver an immersive and empowering experience.\n\nDon't miss this oppor
 tunity to invest in your future. Secure your spot today and take the next 
 step toward realizing your full potential at Relentlessly Rooted Overflow 
 Conference 2024!\n\nGET TICKETS\n
ATTACH;FMTTYPE=image/jpeg:https://breatheatlanta.us/wp-content/uploads/202
 4/10/Relentlessly-Rooted-Overflow-Conference-24.jpg
CATEGORIES:Things To Do
LOCATION:Atlanta\, Atlanta \, Atlanta\, Georgia\,  GA\, United States
X-APPLE-STRUCTURED-LOCATION;VALUE=URI;X-ADDRESS=Atlanta \, Atlanta\, Georgi
 a\,  GA\, United States;X-APPLE-RADIUS=100;X-TITLE=Atlanta:geo:0,0
END:VEVENT
BEGIN:VTIMEZONE
TZID:America/New_York
X-LIC-LOCATION:America/New_York
BEGIN:DAYLIGHT
DTSTART:20240310T030000
TZOFFSETFROM:-0500
TZOFFSETTO:-0400
TZNAME:EDT
END:DAYLIGHT
END:VTIMEZONE
END:VCALENDAR