BEGIN:VCALENDAR
VERSION:2.0
PRODID:-//wp-events-plugin.com//7.2.3.1//EN
TZID:America/New_York
X-WR-TIMEZONE:America/New_York
BEGIN:VEVENT
UID:305@breatheatlanta.us
DTSTART;TZID=America/New_York:20240706T140000
DTEND;TZID=America/New_York:20240706T150000
DTSTAMP:20240626T182057Z
URL:https://breatheatlanta.us/events/reset-yoga-collective-studio-presents
 -yoga-vegan-snacks-bellinis/
SUMMARY:Reset Yoga Collective Studio Presents: Yoga+ Vegan Snacks +Bellini'
 s
DESCRIPTION:\n\n\n\n\nReset Yoga Collective Studio invites you to the ultim
 ate relaxation experience: Yoga + Vegan Snacks + Bellinis! Mark your calen
 dars for Saturday\, July 6th\, 2024\, and join us at the serene Peidmont P
 ark for an afternoon dedicated to rejuvenation and self-care.\nWhat to Exp
 ect\n\n 	Yoga Session: Immerse yourself in a revitalizing yoga practice su
 itable for all levels. Our experienced instructors will guide you through 
 poses that help release tension\, build strength\, and enhance flexibility
 . Whether you’re a seasoned yogi or new to the mat\, this session will l
 eave you feeling balanced and refreshed.\n 	Vegan Snacks: Delight your tas
 te buds with an array of delicious vegan snacks. Carefully curated to prov
 ide nourishment and energy\, these snacks will complement your yoga practi
 ce and keep you feeling light and satisfied.\n 	Bellinis: Sip on refreshin
 g Bellinis and enjoy the perfect blend of relaxation and indulgence. This 
 classic cocktail will add a touch of elegance to your afternoon\, helping 
 you unwind and soak in the tranquil atmosphere of the park.\n\nWhy Attend?
 \n\n 	Rejuvenation: Take a break from your busy schedule and invest in you
 r well-being. This event offers a unique opportunity to relax\, recharge\,
  and practice self-care in a beautiful outdoor setting.\n 	Community: Conn
 ect with like-minded individuals who share your passion for yoga\, wellnes
 s\, and healthy living. Build new friendships and enjoy a sense of communi
 ty as you participate in this collective experience.\n 	Holistic Experienc
 e: Combining yoga\, nutrition\, and a touch of luxury\, this event provide
 s a holistic approach to relaxation and self-care. It’s the perfect way 
 to treat yourself and enjoy a balanced afternoon.\n\nReset Yoga Collective
  Studio is dedicated to promoting wellness\, community\, and holistic livi
 ng. Our events are thoughtfully designed to offer participants a balanced 
 blend of physical activity\, nourishment\, and relaxation. Join us and dis
 cover the benefits of a holistic approach to health and well-being.\n\nInd
 ulge in self-care and reconnect with your inner peace at Yoga + Vegan Snac
 ks + Bellinis. Join the Reset Yoga Collective Studio for a day of rejuvena
 tion and community in the heart of Peidmont Park. Reserve your spot today 
 and step into a world of relaxation and wellness.\n\nGET TICKETS\n\n\n\n\n
ATTACH;FMTTYPE=image/jpeg:https://breatheatlanta.us/wp-content/uploads/202
 4/06/Reset-Yoga-Collective-Studio-Presents-Yoga-Vegan-Snacks-Bellinis.jpg
CATEGORIES:Food &amp; Drink Events,Wellness Events,Yoga Events
LOCATION:Piedmont Park\, 400 Park Drive Northeast Atlanta\, GA 30306 United
  States\, GA \, United States\, 30306 \, GA\, United States
X-APPLE-STRUCTURED-LOCATION;VALUE=URI;X-ADDRESS=400 Park Drive Northeast At
 lanta\, GA 30306 United States\, GA \, United States\, 30306 \, GA\, Unite
 d States;X-APPLE-RADIUS=100;X-TITLE=Piedmont Park:geo:0,0
END:VEVENT
BEGIN:VTIMEZONE
TZID:America/New_York
X-LIC-LOCATION:America/New_York
BEGIN:DAYLIGHT
DTSTART:20240310T030000
TZOFFSETFROM:-0500
TZOFFSETTO:-0400
TZNAME:EDT
END:DAYLIGHT
END:VTIMEZONE
END:VCALENDAR