BEGIN:VCALENDAR
VERSION:2.0
PRODID:-//wp-events-plugin.com//7.2.3.1//EN
TZID:America/New_York
X-WR-TIMEZONE:America/New_York
BEGIN:VEVENT
UID:445@breatheatlanta.us
DTSTART;TZID=America/New_York:20240908T150000
DTEND;TZID=America/New_York:20240908T170000
DTSTAMP:20240904T065420Z
URL:https://breatheatlanta.us/events/restore-replenish/
SUMMARY:Restore & Replenish
DESCRIPTION:Immerse yourself in a transformative 2-hour journey with Rita\,
  focusing on embodiment through Restorative Yoga and Somatic Awareness. Th
 is practice invites you to gently explore and release tension\, bringing a
 ttention to your body’s habitual patterns of constriction and the accomp
 anying thoughts and emotions.\n\nWith a slow\, deliberate pace and the sup
 port of props\, you’ll be guided into a state of deep relaxation and sti
 llness\, allowing you to reconnect with your body and cultivate a profound
  sense of ease. This session offers a sanctuary for self-awareness and res
 toration\, helping you to replenish both mind and body.\n\nGET TICKETS\n
ATTACH;FMTTYPE=image/jpeg:https://breatheatlanta.us/wp-content/uploads/202
 4/09/Restore-Replenish.jpg
CATEGORIES:Mindfulness Events,Things To Do,Wellness Events
LOCATION:Aum Studio for Wellness\, 11550 Webb Bridge Way #Suite B2 Alpharet
 ta\, GA 30005 United States\, GA \, United States\, 30005 \,  GA \, United
  States
X-APPLE-STRUCTURED-LOCATION;VALUE=URI;X-ADDRESS=11550 Webb Bridge Way #Suit
 e B2 Alpharetta\, GA 30005 United States\, GA \, United States\, 30005 \, 
  GA \, United States;X-APPLE-RADIUS=100;X-TITLE=Aum Studio for Wellness:ge
 o:0,0
END:VEVENT
BEGIN:VTIMEZONE
TZID:America/New_York
X-LIC-LOCATION:America/New_York
BEGIN:DAYLIGHT
DTSTART:20240310T030000
TZOFFSETFROM:-0500
TZOFFSETTO:-0400
TZNAME:EDT
END:DAYLIGHT
END:VTIMEZONE
END:VCALENDAR