BEGIN:VCALENDAR
VERSION:2.0
PRODID:-//wp-events-plugin.com//7.2.3.1//EN
TZID:America/New_York
X-WR-TIMEZONE:America/New_York
BEGIN:VEVENT
UID:321@breatheatlanta.us
DTSTART;TZID=America/New_York:20240727T140000
DTEND;TZID=America/New_York:20240727T163000
DTSTAMP:20240627T045741Z
URL:https://breatheatlanta.us/events/retreat-within/
SUMMARY:Retreat Within
DESCRIPTION:Prepare to embark on a soul-searching journey at "Retreat Withi
 n\," where self-discovery and inner peace await you. This transformative e
 vent offers an array of personalized Divine energetic sessions and rejuven
 ating experiences designed to help you reconnect with yourself and find tr
 anquility.\n\nEvent Details:\n\n 	Date and Time: Join us for "Retreat With
 in" to be held on [Date] at [Time].\n 	Activities:\n\n 	Personalized Divin
 e Energetic Sessions: Choose from a selection of personalized sessions to 
 cater to your spiritual and emotional needs:\n\n 	Divine Readings with Dia
 ne\n 	Attitude Adjustment with Dr. Makeda\n 	Unblock ME (My Energy) with D
 r. Delilah\n 	Reflex Harmony with Syrennia\n\n\n 	Restorative Refreshments
 : Light refreshments will be served to nourish your body and soul.\n 	Oxyg
 en Bar: Experience rejuvenation with our oxygen bar (availability may vary
 ).\n\n\n\nWhy Attend?\n\n 	Self-Discovery: Explore your inner self and gai
 n insights into your spiritual journey through personalized Divine energet
 ic sessions.\n 	Inner Peace: Find tranquility and balance as you engage in
  practices aimed at restoring harmony to your mind\, body\, and spirit.\n 
 	Rejuvenation: Enjoy restorative refreshments and experience the invigorat
 ing effects of our oxygen bar.\n\nJoin Us:\n\nDon't miss out on this oppor
 tunity to retreat within\, reconnect with yourself\, and discover inner pe
 ace. Reserve your spot today for a transformative experience that will lea
 ve you feeling refreshed\, renewed\, and inspired.\n\nGET TICKETS\n
ATTACH;FMTTYPE=image/jpeg:https://breatheatlanta.us/wp-content/uploads/202
 4/06/Retreat-Within.jpg
CATEGORIES:Mindfulness Events,Retreats Events,Wellness Events
LOCATION:Riverwell Chiropractic\, 113 South Perry Street Suite 100 Lawrence
 ville\, Atlanta\, Georgia\, 30046 \, GA \, United States
X-APPLE-STRUCTURED-LOCATION;VALUE=URI;X-ADDRESS=113 South Perry Street Suit
 e 100 Lawrenceville\, Atlanta\, Georgia\, 30046 \, GA \, United States;X-A
 PPLE-RADIUS=100;X-TITLE=Riverwell Chiropractic:geo:0,0
END:VEVENT
BEGIN:VTIMEZONE
TZID:America/New_York
X-LIC-LOCATION:America/New_York
BEGIN:DAYLIGHT
DTSTART:20240310T030000
TZOFFSETFROM:-0500
TZOFFSETTO:-0400
TZNAME:EDT
END:DAYLIGHT
END:VTIMEZONE
END:VCALENDAR