BEGIN:VCALENDAR
VERSION:2.0
PRODID:-//wp-events-plugin.com//7.2.3.1//EN
TZID:America/New_York
X-WR-TIMEZONE:America/New_York
BEGIN:VEVENT
UID:248@breatheatlanta.us
DTSTART;TZID=America/New_York:20240504T090000
DTEND;TZID=America/New_York:20240504T170000
DTSTAMP:20240417T152254Z
URL:https://breatheatlanta.us/events/revived-resilient-restored-healing/
SUMMARY:Revived! Resilient! Restored! Healing Conference 2024
DESCRIPTION:\nHeal\, Connect\, &amp\; Thrive: Revived! Resilient! Restored!
  Conference\nCalling all strong women ready for healing and empowerment! J
 oin the "I Dated Him!" FB group's Revived! Resilient! Restored! Healing Co
 nference on May 4th!\nA Day of Transformation:\nThis inspiring event offer
 s a space for connection\, learning\, and growth. Connect with powerful sp
 eakers\, engage in transformative workshops\, and embark on a powerful jou
 rney towards healing and resilience.\nEmpowering Speakers:\n\n\n 	Christy 
 Sims: Public speaker\, author\, psychotherapist\, domestic violence surviv
 or advocate.\n 	Brandy Nicole: Public speaker\, author\, mental health exp
 ert\, certified trauma recovery coach.\n\nPanel Discussions:\n\n\n 	Join c
 aptivating discussions led by Julia Watkins\, Nikki Williams\, Tracie Finn
 ey\, and Tesehki Lee.\n\nReconnect with Yourself &amp\; Others:\nThis conf
 erence offers a safe space to connect with a supportive community of women
  who understand your experiences. Revitalize your spirit and rediscover yo
 ur strength.\nBonus Perks:\n\n\n 	Complimentary swag bags\n 	Bottomless mi
 mosas and breakfast\n 	Vendor marketplace\n\nAfter Party:\nJoin the after-
 party for continued connection and fun! ($10 entry)\nEvent Details:\n\n\n 
 	Date: Saturday\, May 4th\n 	Time: 9:00 AM - 5:00 PM\n 	Location: Wingate 
 by Wyndham Atlanta Galleria (2762 Cobb Parkway Atlanta\, GA 30339)\n 	Pric
 e: $30 (before April 1st) / Increases at the door\n 	Age Requirement: 18+ 
 (No men or children permitted)\n 	Dress Code: Business casual\n 	Parking: 
 Free\n 	After Party: 145 Nassau St NW Suite D\, Atlanta\, Ga 30303 / $10 e
 ntry (Hosted by Dezz Lawrence of M.S.K FB Group)\n\nDon't Miss Out!\nReser
 ve your spot today for a transformative experience at the Revived! Resilie
 nt! Restored! Healing Conference.\n\n\n\nBUY TICKETS\n
ATTACH;FMTTYPE=image/jpeg:https://breatheatlanta.us/wp-content/uploads/202
 4/04/https___cdn.evbuc_.com_images_721637979_1030259936743_1_original.jpeg
CATEGORIES:Wellness Events
LOCATION:Wingate by Wyndham\, 2762 Cobb Parkway Southeast\, Atlanta\, Georg
 ia\, 30339\, United States
X-APPLE-STRUCTURED-LOCATION;VALUE=URI;X-ADDRESS=2762 Cobb Parkway Southeast
 \, Atlanta\, Georgia\, 30339\, United States;X-APPLE-RADIUS=100;X-TITLE=Wi
 ngate by Wyndham:geo:0,0
END:VEVENT
BEGIN:VTIMEZONE
TZID:America/New_York
X-LIC-LOCATION:America/New_York
BEGIN:DAYLIGHT
DTSTART:20240310T030000
TZOFFSETFROM:-0500
TZOFFSETTO:-0400
TZNAME:EDT
END:DAYLIGHT
END:VTIMEZONE
END:VCALENDAR