BEGIN:VCALENDAR
VERSION:2.0
PRODID:-//wp-events-plugin.com//7.2.3.1//EN
TZID:America/New_York
X-WR-TIMEZONE:America/New_York
BEGIN:VEVENT
UID:301@breatheatlanta.us
DTSTART;TZID=America/New_York:20240602T210000
DTEND;TZID=America/New_York:20240603T010000
DTSTAMP:20240526T175046Z
URL:https://breatheatlanta.us/events/rhythm-soul/
SUMMARY:Rhythm & Soul
DESCRIPTION:Get ready for an unforgettable night of live music at Apache XL
 R\, the home of fine vibing! Normally held every first Saturday\, this mon
 th's event has been moved to Sunday for one night only!\n\nExperience perf
 ormances by thriving and superstar artists\, making this one of our most p
 opular nights. Enjoy delicious food and the best live music events in the 
 city. Why not treat yourself to an evening of great vibes\, fantastic tune
 s\, and mouth-watering dishes? Don't miss out on this special edition of l
 ive music at Apache XLR!\n\nGET TICKETS\n
ATTACH;FMTTYPE=image/jpeg:https://breatheatlanta.us/wp-content/uploads/202
 4/05/Rythm-Soul.jpg
LOCATION:393 Marietta St NW\, 393 Marietta Street NorthWest Atlanta\, Atlan
 ta\, Georgia\, 30313 \, GA\, United States
X-APPLE-STRUCTURED-LOCATION;VALUE=URI;X-ADDRESS=393 Marietta Street NorthWe
 st Atlanta\, Atlanta\, Georgia\, 30313 \, GA\, United States;X-APPLE-RADIU
 S=100;X-TITLE=393 Marietta St NW:geo:0,0
END:VEVENT
BEGIN:VTIMEZONE
TZID:America/New_York
X-LIC-LOCATION:America/New_York
BEGIN:DAYLIGHT
DTSTART:20240310T030000
TZOFFSETFROM:-0500
TZOFFSETTO:-0400
TZNAME:EDT
END:DAYLIGHT
END:VTIMEZONE
END:VCALENDAR