BEGIN:VCALENDAR
VERSION:2.0
PRODID:-//wp-events-plugin.com//7.2.3.1//EN
TZID:America/New_York
X-WR-TIMEZONE:America/New_York
BEGIN:VEVENT
UID:407@breatheatlanta.us
DTSTART;TZID=America/New_York:20240818T110000
DTEND;TZID=America/New_York:20240818T140000
DTSTAMP:20240802T170336Z
URL:https://breatheatlanta.us/events/roam-reflect-mindful-hiking-excursion
 s/
SUMMARY:Roam & Reflect - Mindful Hiking Excursions
DESCRIPTION:\n\n\n\nJoin us for a mindful hiking experience designed to nou
 rish both body and soul. Discover the natural beauty of Sweetwater Creek S
 tate Park while engaging in reflective practices and gentle physical activ
 ity.\n\n\n\n\n\n\n\n\n\n\n\nWhat to Expect:\n\n 	Meeting Point: Gather at 
 the visitor center entrance closest to the trailhead. If you're running la
 te\, please inform the organizer of your estimated arrival time.\n 	Warm-U
 p: Begin with light\, dynamic stretches and a reflection prompt to contemp
 late during the hike.\n 	Hiking: Embark on a moderately-paced group hike t
 hrough the serene woods\, taking in the sights and sounds of nature.\n 	Br
 eak Time: Pause for a longer break to hydrate\, enjoy snacks\, and appreci
 ate the scenic views or nearby water bodies.\n 	Cool-Down: After completin
 g the hike\, finish with stretches targeting the main muscle groups used. 
 This is also a time to share any reflections or intentions you feel inspir
 ed to discuss with the group.\n\nJoin us on this rejuvenating journey thro
 ugh nature\, where each step brings clarity and connection. Embrace the op
 portunity to roam and reflect\, finding peace and inspiration in the great
  outdoors.\n\nGET TICKETS\n\n\n\n\n\n\n
ATTACH;FMTTYPE=image/jpeg:https://breatheatlanta.us/wp-content/uploads/202
 4/08/Roam-Reflect-Mindful-Hiking-Excursions.jpg
CATEGORIES:Nature Events,Sports &amp; Fitness Events,Things To Do,Wellness
 Events
LOCATION:Sweetwater Creek State Park\, 1750 Mount Vernon Road Lithia Spring
 s\, Atlanta\, Georgia\, 30122 \, GA\, United States
X-APPLE-STRUCTURED-LOCATION;VALUE=URI;X-ADDRESS=1750 Mount Vernon Road Lith
 ia Springs\, Atlanta\, Georgia\, 30122 \, GA\, United States;X-APPLE-RADIU
 S=100;X-TITLE=Sweetwater Creek State Park:geo:0,0
END:VEVENT
BEGIN:VTIMEZONE
TZID:America/New_York
X-LIC-LOCATION:America/New_York
BEGIN:DAYLIGHT
DTSTART:20240310T030000
TZOFFSETFROM:-0500
TZOFFSETTO:-0400
TZNAME:EDT
END:DAYLIGHT
END:VTIMEZONE
END:VCALENDAR