BEGIN:VCALENDAR
VERSION:2.0
PRODID:-//wp-events-plugin.com//7.2.3.1//EN
TZID:America/New_York
X-WR-TIMEZONE:America/New_York
BEGIN:VEVENT
UID:208@breatheatlanta.us
DTSTART;TZID=America/New_York:20240421T100000
DTEND;TZID=America/New_York:20240421T160000
DTSTAMP:20240404T101103Z
URL:https://breatheatlanta.us/events/root-chakra-renewal-yoga-mala-craftin
 g-and-reiki-sound-bath/
SUMMARY:Root Chakra Renewal: Yoga\, Mala Crafting and Reiki Sound Bath
DESCRIPTION:Embark on a journey of transformation with us as we delve into 
 a day filled with yoga\, mala crafting\, and a Reiki sound bathwe explore 
 and balance the root chakra\, gaining insights and harmony along the way.\
 n\nEvent Information:\n\nEvent Name: Root Chakra Renewal: Yoga\, Mala Craf
 ting and Reiki Sound Bath\n\nHosts: Karmin Ruocco &amp\; Tammy Allman\n\nD
 ate and Time: Sunday\, April 21 • 10am - 4pm EDT\n\nLocation: West Milfo
 rd Farm\, 7938 Ball Ground Road\, Cumming\, GA 30028 United States\n\nAbou
 t this Event: Embark on a holistic journey of healing and self-discovery a
 t West Milford Farm in Cumming\, GA\, with our Root Chakra Workshop\, a ha
 rmonious fusion of yoga\, mala-making\, and Reiki-infused sound bathing. R
 ooted in the ancient wisdom of the chakra system\, this immersive experien
 ce is designed to balance and activate your foundational energy center\, t
 he root chakra. Begin with a grounding yoga practice tailored to cultivate
  stability and security within the body and mind. Then\, tap into your cre
 ative essence as you craft your own mala necklace\, selecting gemstones th
 at resonate with the root chakra's energy of grounding and resilience. Fin
 ally\, surrender to the soothing vibrations of a Reiki sound bath\, where 
 the gentle resonance of healing sounds will wash over you\, aligning your 
 energy centers and promoting deep relaxation and inner harmony. Guided by 
 skilled facilitators\, you'll emerge from this workshop feeling grounded\,
  empowered\, and connected to the roots of your being.\n\nTicket Informati
 on:\n\nGeneral Admission:\n\n$250.00 + $18.61 Fee\n\n13 Remaining\n\nSales
  end on Apr 21\, 2024\n\nGET TICKETS\n\nWorkout Session Detail:\n\nWelcome
  Circle &amp\; Gentle Yoga Flow:\n\nGather for a welcome circle\, introduc
 tions\, and a brief root chakra learning session.\n\nParticipate in ground
 ing exercises to connect with the root chakra.\n\nEngage in a gentle yoga 
 session focused on cultivating stability and security.\n\nRoot Chakra Mala
  Creation:\n\nDelve into the depths of your being as you craft your own sa
 cred mala necklace\, infuse it with your intentions\, and learn how to use
  it.\n\nThrough this meditative process\, you'll deepen your connection wi
 th the root chakra's energy.\n\nNourishing Lunch\n\nRoot Chakra Balancing:
 \n\nExplore techniques and grounding exercises to balance and heal the roo
 t chakra.\n\nReiki Sound Bath:\n\nEnjoy a group sound bath and Reiki energ
 y healing session\, utilizing singing bowls and other instruments to reson
 ate with the root chakra’s frequency.\n\nEssential for Bring: Participan
 ts are encouraged to bring their own yoga mat.\n\nParking Option: Availabl
 e at West Milford Farm.\n\nThis event promises a transformative experience
 \, integrating yoga\, mala crafting\, and Reiki sound bathing to promote d
 eep healing and self-awareness.
ATTACH;FMTTYPE=image/jpeg:https://breatheatlanta.us/wp-content/uploads/202
 4/04/FGDSGSDGSDGSDF.jpg
CATEGORIES:Wellness Events,Yoga Events
LOCATION:West Milford Farm\, Ball Ground Road\, Cumming\, GA\, USA\,   7938
  Ball Ground Road \, Cumming\, \, United States\, 30028\, GA  \, United St
 ates
X-APPLE-STRUCTURED-LOCATION;VALUE=URI;X-ADDRESS=  7938 Ball Ground Road \, 
 Cumming\, \, United States\, 30028\, GA  \, United States;X-APPLE-RADIUS=1
 00;X-TITLE=West Milford Farm\, Ball Ground Road\, Cumming\, GA\, USA:geo:0
 ,0
END:VEVENT
BEGIN:VTIMEZONE
TZID:America/New_York
X-LIC-LOCATION:America/New_York
BEGIN:DAYLIGHT
DTSTART:20240310T030000
TZOFFSETFROM:-0500
TZOFFSETTO:-0400
TZNAME:EDT
END:DAYLIGHT
END:VTIMEZONE
END:VCALENDAR