BEGIN:VCALENDAR
VERSION:2.0
PRODID:-//wp-events-plugin.com//7.2.3.1//EN
TZID:America/New_York
X-WR-TIMEZONE:America/New_York
BEGIN:VEVENT
UID:491@breatheatlanta.us
DTSTART;TZID=America/New_York:20241012T073000
DTEND;TZID=America/New_York:20241012T103000
DTSTAMP:20240925T124147Z
URL:https://breatheatlanta.us/events/run-against-breast-cancer-5k-10k-13-1
 -atlanta/
SUMMARY:Run Against Breast Cancer 5K/10K/13.1 ATLANTA
DESCRIPTION:Join the fight against breast cancer by participating in the Ru
 n Against Breast Cancer event\, featuring 5K\, 10K\, and 21K Half Marathon
  options. This race is not just about fitness but also about standing toge
 ther to make a difference. After completing your run\, you'll receive a co
 mmemorative pin or ribbon as a keepsake of your participation. A portion o
 f the proceeds\, along with 100% of the funds raised\, will go directly to
  the American Cancer Society\, supporting their mission as the oldest and 
 largest cancer-fighting organization in the U.S.\n\nEvent Details: The rac
 e is expected to sell out quickly\, and wave registration will close as so
 on as each wave fills up. However\, if spots are unavailable\, you can sti
 ll opt for the virtual run or sign up for the waitlist. This is a small\, 
 intimate event with limited participants per wave\, welcoming all paces an
 d ages. Participants under 18 must be accompanied by a guardian. Whether y
 ou're running or walking\, this event encourages everyone to join\, and th
 ere's no need for special equipment or setup—just show up and enjoy the 
 run with the support of event coordinators.\n\nTiming: Timing is optional 
 for this run. Participants can choose to track their own times using apps 
 like Strava\, RunKeeper\, or Nike Run\, and submit results online. For tho
 se who prefer assistance\, coordinators are available to help track times.
  There will be no timing chips\, as the focus is on a stress-free\, suppor
 tive experience.\n\nWhat You Get (Swag Bag):\n\n 	Race T-shirt (shipped to
  your registered address within the U.S.)\n 	Finisher's towel or giveaway 
 item\n 	Finisher's medal (emailed to you after the race)\n 	Training pack 
 and free giveaways\n 	(Optional) Online race results and certificate of co
 mpletion\n 	(Optional) Upgrade to a technical running shirt for an additio
 nal $5\n 	(Optional) Join the new Running Club Near You! Club members can 
 participate in three races a year and receive exclusive items like a hoodi
 e\, tank top\, cap\, or custom name shirt.\n 	Free lifetime access to the 
 Run/Walk Club on Strava.\n\nPacket Pickup: There’s no need for packet pi
 ckup—your swag will be mailed directly to your address. Ensure your mail
 ing information is correct\, including apartment numbers. Race bibs will b
 e provided on race day.\n\nSwag Shipping: Your race shirt will arrive at y
 our mailing address during the week of the race. If you register within tw
 o weeks of the event\, your shirt may arrive after the race\, but you're e
 ncouraged to wear any shirt suitable for running.\n\nWave Times: Participa
 nts can choose their wave time from the following options:\n\n 	Wave A: 7:
 30 AM\n 	Wave B: 8:00 AM\n 	Wave C: 8:30 AM\n\nDuring hotter months (June-
 August)\, earlier wave times may be available\, and final wave times will 
 be emailed the week of the race. Late arrivals can still participate up to
  three hours after the first wave starts.\n\nVirtual Run Option: For those
  who prefer flexibility\, a virtual run option is available. You'll receiv
 e a training pack with digital tools to support your run\, and you can com
 plete the race anytime\, anywhere. Simply track your run with any device\,
  submit your results\, and receive your medal via mail.\n\nRace Bundle: Pa
 rticipants can sign up for multiple races and receive discounted rates. If
  you complete three races\, you'll earn a Custom Runner's Trophy as a spec
 ial reward.\n\nSponsorship &amp\; Promotion: Businesses interested in spon
 sorship opportunities are welcome to collaborate. The event offers a platf
 orm for promoting your business while supporting a great cause. For more d
 etails\, visit https://www.thebestraces.com/events.\n\nTeam Glo Volunteers
 : If you're passionate about helping others and supporting community fitne
 ss\, join Team Glo as a volunteer. Learn more and sign up at https://www.t
 hebestraces.com/volunteer-form/.\n\nRun for Others: Make a Difference The 
 event focuses on four core fundraising themes: Cancer\, Water\, Education\
 , and Other Causes. These values guide their mission to create a more equi
 table and hopeful world. If you’re a non-profit or individual looking to
  collaborate\, contact them at contact@thebestraces.com or visit www.thebe
 stracesjourney.com to learn more.\n\nGET TICKETS\n
ATTACH;FMTTYPE=image/jpeg:https://breatheatlanta.us/wp-content/uploads/202
 4/09/Run-Against-Breast-Cancer-5K-10K-13.1-ATLANTA.jpg
CATEGORIES:Wellness Events
LOCATION:S Peachtree Creek Trail\, S Peachtree Creek Trail Atlanta\, Atlant
 a\, Georgia\, 30304\, GA\, United States
X-APPLE-STRUCTURED-LOCATION;VALUE=URI;X-ADDRESS=S Peachtree Creek Trail Atl
 anta\, Atlanta\, Georgia\, 30304\, GA\, United States;X-APPLE-RADIUS=100;X
 -TITLE=S Peachtree Creek Trail:geo:0,0
END:VEVENT
BEGIN:VTIMEZONE
TZID:America/New_York
X-LIC-LOCATION:America/New_York
BEGIN:DAYLIGHT
DTSTART:20240310T030000
TZOFFSETFROM:-0500
TZOFFSETTO:-0400
TZNAME:EDT
END:DAYLIGHT
END:VTIMEZONE
END:VCALENDAR