BEGIN:VCALENDAR
VERSION:2.0
PRODID:-//wp-events-plugin.com//7.2.3.1//EN
TZID:America/New_York
X-WR-TIMEZONE:America/New_York
BEGIN:VEVENT
UID:266@breatheatlanta.us
DTSTART;TZID=America/New_York:20240520T190000
DTEND;TZID=America/New_York:20240520T201500
DTSTAMP:20240507T203853Z
URL:https://breatheatlanta.us/events/sacred-bellydance-in-the-west-end/
SUMMARY:Sacred Bellydance in the West End
DESCRIPTION:\nAwaken Your Inner Goddess: Bellydance for Emotional Balance &
 amp\; Wellbeing!\nEmbark on a transformative journey of self-discovery on 
 May 20th with Goddess Ṣómì (Eboni Q.)! Unleash your inner rhythm and i
 gnite your spirit with this captivating bellydance class.\nMore Than Just 
 Dance:\n\n\n 	Holistic Wellness Experience: This class goes beyond mere ph
 ysical movement. It's a holistic wellness experience designed to cultivate
  emotional balance\, energize your body\, and uplift your spirit.\n 	Breat
 h &amp\; Movement Fusion: Learn the art of fusing breath with movement\, c
 reating a powerful synergy that promotes mindfulness and inner peace.\n 	H
 armony of Mind\, Body &amp\; Soul: Embrace the connection between your min
 d\, body\, and soul as you explore the enchanting art of bellydance. This 
 class fosters a sense of wholeness and well-being.\n\nUnleash Your Inner R
 hythm:\n\n\n 	No Experience Necessary: This class is open to everyone\, re
 gardless of prior experience. All you need is an open heart and a willingn
 ess to move!\n 	Discover Your Inner Dancer: Goddess Ṣómì will guide yo
 u on a journey of self-discovery\, helping you unlock your natural rhythm 
 and express yourself through the art of bellydance.\n 	Embrace the Joy of 
 Movement: Let loose\, have fun\, and experience the pure joy of movement! 
 Bellydance is a playful and expressive art form that allows you to celebra
 te your body and femininity.\n\nEmpowering &amp\; Supportive Environment:\
 n\n\n 	Goddess Ṣómì (Eboni Q.): Led by the renowned Goddess Ṣómì (
 Eboni Q.)\, this class offers a supportive and encouraging environment whe
 re you can feel comfortable exploring your creativity and confidence.\n 	C
 onnect with Yourself &amp\; Others: This class is more than just learning 
 steps\; it's an opportunity to connect with yourself and other like-minded
  individuals who share your passion for dance and movement.\n\nA Gift to Y
 our Wellbeing:\n\n\n 	Emotional Balance: Regular bellydance practice can c
 ontribute to emotional well-being by reducing stress\, boosting mood\, and
  promoting self-confidence.\n 	Physical Fitness: This dance form offers a 
 fun and engaging way to improve your flexibility\, coordination\, and core
  strength.\n 	Creative Expression: Bellydance allows you to express yourse
 lf creatively and explore your inner artist.\n\nJoin us on May 20th and em
 bark on a transformative journey of self-discovery through the captivating
  art of bellydance! Let Goddess Ṣómì guide you towards emotional balan
 ce\, physical empowerment\, and the joy of movement.\nHashtags:\n#Bellydan
 ceWorkshop #EmotionalBalance #HolisticWellness #GoddessSomi #DanceForLife 
 #EmpowermentThroughMovement\n\n\n\nBUY TICKETS\n
ATTACH;FMTTYPE=image/jpeg:https://breatheatlanta.us/wp-content/uploads/202
 4/05/https___cdn.evbuc_.com_images_747354689_74885588231_1_original.jpeg
CATEGORIES:Wellness Events
LOCATION:1450 Ralph David Abernathy Blvd SW\, 1450 Ralph David Abernathy Bo
 ulevard Southwest \, Atlanta\, Georgia\, 30310 \, United States
X-APPLE-STRUCTURED-LOCATION;VALUE=URI;X-ADDRESS=1450 Ralph David Abernathy 
 Boulevard Southwest \, Atlanta\, Georgia\, 30310 \, United States;X-APPLE-
 RADIUS=100;X-TITLE=1450 Ralph David Abernathy Blvd SW:geo:0,0
END:VEVENT
BEGIN:VTIMEZONE
TZID:America/New_York
X-LIC-LOCATION:America/New_York
BEGIN:DAYLIGHT
DTSTART:20240310T030000
TZOFFSETFROM:-0500
TZOFFSETTO:-0400
TZNAME:EDT
END:DAYLIGHT
END:VTIMEZONE
END:VCALENDAR