BEGIN:VCALENDAR
VERSION:2.0
PRODID:-//wp-events-plugin.com//7.2.3.1//EN
TZID:America/New_York
X-WR-TIMEZONE:America/New_York
BEGIN:VEVENT
UID:312@breatheatlanta.us
DTSTART;TZID=America/New_York:20240714T110000
DTEND;TZID=America/New_York:20240714T140000
DTSTAMP:20240626T192729Z
URL:https://breatheatlanta.us/events/sacred-bonds-tantric-yoga-couples-wor
 kshop-2/
SUMMARY:SACRED BONDS (TANTRIC YOGA COUPLES WORKSHOP)
DESCRIPTION:Sacred Bonds: Tantric Yoga Couples Workshop offers couples a un
 ique opportunity to experience profound connection and spiritual growth th
 rough Tantric Yoga. This in-person workshop is designed to guide partners 
 through a variety of practices\, techniques\, and rituals aimed at deepeni
 ng their bond and enhancing intimacy.\n\nEvent Details:\n\n 	Setting: Held
  in a safe and nurturing environment\, the workshop brings together like-m
 inded couples who are eager to explore the transformative power of Tantric
  Yoga.\n 	Practices: Participants will engage in touch\, breathwork\, medi
 tation\, and movement exercises that foster presence\, trust\, and authent
 icity within their relationships.\n 	Instruction: Led by an experienced in
 structor\, the workshop ensures that all participants feel comfortable and
  supported throughout their journey. The guidance provided is tailored to 
 accommodate both beginners and those with previous experience in Tantric Y
 oga.\n\nBenefits of Attending:\n\n 	Deepened Connection: Learn techniques 
 that enhance intimacy and deepen the emotional and spiritual bond with you
 r partner.\n 	Enhanced Communication: Through guided practices\, couples w
 ill improve their ability to communicate authentically and openly.\n 	Stre
 ss Reduction: The combination of meditation\, breathwork\, and physical co
 nnection helps reduce stress and promotes overall well-being.\n 	Relations
 hip Enrichment: This workshop provides tools to cultivate a more passionat
 e and connected relationship\, enhancing both emotional and physical intim
 acy.\n\nWhy Attend?\n\n 	Transformative Experience: Sacred Bonds promises 
 an unforgettable journey of self-discovery and connection with your partne
 r. The practices taught in the workshop will nourish your relationship and
  ignite the flame of passion within.\n 	Expert Guidance: Benefit from the 
 knowledge and expertise of a seasoned instructor who will ensure you feel 
 supported and guided throughout the workshop.\n 	Inclusive Environment: Wh
 ether you are new to Tantric Yoga or have prior experience\, this workshop
  is open to all couples seeking to deepen their connection and explore new
  realms of love and intimacy.\n\nReserve Your Spot:\n\nDon't miss out on t
 his unique opportunity to strengthen your bond and embark on a transformat
 ive journey with your loved one. Secure your place at Sacred Bonds: Tantri
 c Yoga Couples Workshop today. We look forward to welcoming you to an expe
 rience that promises to enhance and enrich your relationship.\n\nGET TICKE
 TS\n
ATTACH;FMTTYPE=image/jpeg:https://breatheatlanta.us/wp-content/uploads/202
 4/06/SACRED-BONDS-TANTRIC-YOGA-COUPLES-WORKSHOP.jpg
CATEGORIES:Mindfulness Events,Wellness Events
LOCATION:BODY ELECTRIC ART STUDIO\,   620 Glen Iris Drive Northeast #112 \,
  \, Atlanta\, United States\, 30308 \, GA \, United States
X-APPLE-STRUCTURED-LOCATION;VALUE=URI;X-ADDRESS=  620 Glen Iris Drive North
 east #112 \, \, Atlanta\, United States\, 30308 \, GA \, United States;X-A
 PPLE-RADIUS=100;X-TITLE=BODY ELECTRIC ART STUDIO:geo:0,0
END:VEVENT
BEGIN:VTIMEZONE
TZID:America/New_York
X-LIC-LOCATION:America/New_York
BEGIN:DAYLIGHT
DTSTART:20240310T030000
TZOFFSETFROM:-0500
TZOFFSETTO:-0400
TZNAME:EDT
END:DAYLIGHT
END:VTIMEZONE
END:VCALENDAR