BEGIN:VCALENDAR
VERSION:2.0
PRODID:-//wp-events-plugin.com//7.2.3.1//EN
TZID:America/New_York
X-WR-TIMEZONE:America/New_York
BEGIN:VEVENT
UID:123@breatheatlanta.us
DTSTART;TZID=America/New_York:20240414T110000
DTEND;TZID=America/New_York:20240414T140000
DTSTAMP:20240323T083229Z
URL:https://breatheatlanta.us/events/sacred-bonds-tantric-yoga-couples-wor
 kshop/
SUMMARY:SACRED BONDS ( TANTRIC YOGA COUPLES WORKSHOP)
DESCRIPTION:Experience the transformative power of connection and intimacy 
 with your partner in our Tantric Yoga Couples Workshop. Dive deep into the
  sacred practices of Tantra as we guide you on a journey of self-discovery
  and shared exploration. Through mindful movement\, breathwork\, and touch
 \, unlock new dimensions of closeness and understanding in your relationsh
 ip. Join us as we embark on this journey together\, igniting the flame of 
 passion and deepening the bond between you and your loved one.\n\nEvent In
 formation:\n\nEvent Name: SACRED BONDS (TANTRIC YOGA COUPLES WORKSHOP)\n\n
 Host: BODY ELECTRIC ART STUDIO\n\nDate and Time: Sunday\, April 14 • 11:
 00 am - 2:00 pm EDT\n\nLocation: BODY ELECTRIC ART STUDIO\, 620 Glen Iris 
 Drive Northeast #112 Atlanta\, GA 30308\, United States\n\nAbout this Even
 t: Welcome to SACRED BONDS (TANTRIC YOGA COUPLES WORKSHOP)! On Sunday\, Ap
 ril 14\, at 11:00 AM for an intimate and transformative experience at the 
 BODY ELECTRIC ART STUDIO.\n\nDiscover the profound connection and spiritua
 l growth that Tantric Yoga offers\, specifically designed for couples. Thi
 s in-person workshop will lead you and your partner through various practi
 ces\, techniques\, and rituals to deepen your bond and enhance intimacy.\n
 \nImmerse yourselves in a safe and nurturing environment as you explore th
 e power of touch\, breathwork\, meditation\, and movement. Learn to cultiv
 ate presence\, trust\, and authenticity within your relationship under the
  expert guidance of our experienced instructor.\n\nWhether you're new to T
 antric Yoga or have previous experience\, this event is open to all couple
 s eager to deepen their connection and explore new realms of love and inti
 macy.\n\nTicket Information:\n\nTicket for 2 people: $88.00\n\nFees: $7.75
 \n\nSales Tax: $8.52\n\nTotal: $104.27\n\n&nbsp\;\n\nGET TICKETS\n\nWorkou
 t Session Detail:\n\nDuration: 3 hours\n\nTantric Yoga practices for coupl
 es\n\nTechniques for deepening connection and enhancing intimacy\n\nEssent
 ial for Attendees:\n\nComfortable clothing suitable for yoga practice\n\nY
 oga mats\n\nOpen mind and willingness to explore new practices with your p
 artner\n\nParking Option: Park in the designated visitor's space\, scan th
 e QR code\, and select the 20-minute FREE OPTION. Upon entering the event\
 , ask for the password to extend the validation period for two hours. Obta
 in the code as soon as you enter the studio to avoid getting booted.\n\nRe
 fund Policy: Refunds up to 1 day before the event. Eventbrite's fee is non
 refundable.
ATTACH;FMTTYPE=image/jpeg:https://breatheatlanta.us/wp-content/uploads/202
 4/03/00000000000000000.jpg
CATEGORIES:Wellness Events,Yoga Events
LOCATION:BODY ELECTRIC ART STUDIO\,  620 Glen Iris Drive Northeast #112 \, 
 \, Atlanta\, United States\, 30308 \, GA \, United States
X-APPLE-STRUCTURED-LOCATION;VALUE=URI;X-ADDRESS= 620 Glen Iris Drive Northe
 ast #112 \, \, Atlanta\, United States\, 30308 \, GA \, United States;X-AP
 PLE-RADIUS=100;X-TITLE=BODY ELECTRIC ART STUDIO:geo:0,0
END:VEVENT
BEGIN:VTIMEZONE
TZID:America/New_York
X-LIC-LOCATION:America/New_York
BEGIN:DAYLIGHT
DTSTART:20240310T030000
TZOFFSETFROM:-0500
TZOFFSETTO:-0400
TZNAME:EDT
END:DAYLIGHT
END:VTIMEZONE
END:VCALENDAR