BEGIN:VCALENDAR
VERSION:2.0
PRODID:-//wp-events-plugin.com//7.2.3.1//EN
TZID:America/New_York
X-WR-TIMEZONE:America/New_York
BEGIN:VEVENT
UID:679@breatheatlanta.us
DTSTART;TZID=America/New_York:20241027T090000
DTEND;TZID=America/New_York:20241027T101500
DTSTAMP:20241018T122157Z
URL:https://breatheatlanta.us/events/sacred-geometry-a-movement-series/
SUMMARY:Sacred Geometry: A Movement Series
DESCRIPTION:On October 27th\, participants are invited to embark on a trans
 formative journey that restores the body\, mind\, and spirit through the h
 armonious practice of Kemetic Yoga™️. This ancient system focuses on p
 rogressive movement through symmetrical postures that foster balance and a
 lignment\, both internally and externally\, while being guided by the brea
 th.\n\nThe Sacred Geometry Movement Series is designed to accommodate prac
 titioners of all levels\, ensuring that everyone can engage and benefit fr
 om the experience. Kemetic Yoga™️ is unique in its approach\, meeting 
 individuals exactly where they are on their wellness journey.\nSpecial Col
 laboration\nIn an exciting collaboration\, the event will partner with Jui
 ceheads ATL\, a premier Black-owned juice bar located on Atlanta's North S
 ide. Attendees are encouraged not to miss out on the opportunity to savor 
 a delicious organic fruit bowl or a curated juice blend from their delecta
 ble menu\, which aims to nourish the body from the inside out.\n\nThis eve
 nt promises a perfect blend of movement and nourishment\, creating a holis
 tic experience that rejuvenates both body and soul. Join this vibrant comm
 unity for a day of wellness\, connection\, and delicious treats!\n\nGET TI
 CKETS\n
ATTACH;FMTTYPE=image/jpeg:https://breatheatlanta.us/wp-content/uploads/202
 4/10/Sacred-Geometry-A-Movement-Series.jpg
CATEGORIES:Things To Do,Wellness Events
LOCATION:Juiceheads ATL\, 2591 Piedmont Road Northeast ##1110\, Atlanta\, G
 eorgia\, 30324\,  GA\, United States
X-APPLE-STRUCTURED-LOCATION;VALUE=URI;X-ADDRESS=2591 Piedmont Road Northeas
 t ##1110\, Atlanta\, Georgia\, 30324\,  GA\, United States;X-APPLE-RADIUS=
 100;X-TITLE=Juiceheads ATL:geo:0,0
END:VEVENT
BEGIN:VTIMEZONE
TZID:America/New_York
X-LIC-LOCATION:America/New_York
BEGIN:DAYLIGHT
DTSTART:20240310T030000
TZOFFSETFROM:-0500
TZOFFSETTO:-0400
TZNAME:EDT
END:DAYLIGHT
END:VTIMEZONE
END:VCALENDAR