BEGIN:VCALENDAR
VERSION:2.0
PRODID:-//wp-events-plugin.com//7.2.3.1//EN
TZID:America/New_York
X-WR-TIMEZONE:America/New_York
BEGIN:VEVENT
UID:534@breatheatlanta.us
DTSTART;TZID=America/New_York:20241026T100000
DTEND;TZID=America/New_York:20241026T150000
DTSTAMP:20240930T130152Z
URL:https://breatheatlanta.us/events/safe-space-saturday-atl-edition/
SUMMARY:Safe Space Saturday: ATL Edition
DESCRIPTION:Safe Space Saturday: ATL Edition is a signature event designed 
 to create supportive environments for Black women\, girls\, and gender non
 conforming individuals to prioritize both individual and community wellnes
 s. This empowering series aims to foster a sense of belonging and promote 
 mental health awareness within the community.\n\nEach Safe Space Saturday 
 features a variety of skills-based wellness workshops\, engaging interacti
 ve activities\, and exciting giveaways\, all tailored to nurture well-bein
 g and resilience. Participants will have the opportunity to learn valuable
  skills\, connect with like-minded individuals\, and engage in meaningful 
 discussions centered around mental wellness.\n\nThe organizers invite ever
 yone to join in this enriching experience\, focusing on building community
  connections and supporting each other’s mental health journeys. This ev
 ent is not just about personal growth\; it’s about fostering a supportiv
 e network that uplifts and empowers participants to thrive. Come be a part
  of this vibrant community dedicated to wellness and empowerment!\n\nGET T
 ICKETS\n
ATTACH;FMTTYPE=image/jpeg:https://breatheatlanta.us/wp-content/uploads/202
 4/09/Safe-Space-Saturday-ATL-Edition.jpg
CATEGORIES:Wellness Events
LOCATION:120 Penney Rd\, 120 Penney Road \, Forest Park\, Georgia\, 30297 \
 , GA\, United States
X-APPLE-STRUCTURED-LOCATION;VALUE=URI;X-ADDRESS=120 Penney Road \, Forest P
 ark\, Georgia\, 30297 \, GA\, United States;X-APPLE-RADIUS=100;X-TITLE=120
  Penney Rd:geo:0,0
END:VEVENT
BEGIN:VTIMEZONE
TZID:America/New_York
X-LIC-LOCATION:America/New_York
BEGIN:DAYLIGHT
DTSTART:20240310T030000
TZOFFSETFROM:-0500
TZOFFSETTO:-0400
TZNAME:EDT
END:DAYLIGHT
END:VTIMEZONE
END:VCALENDAR