BEGIN:VCALENDAR
VERSION:2.0
PRODID:-//wp-events-plugin.com//7.2.3.1//EN
TZID:America/New_York
X-WR-TIMEZONE:America/New_York
BEGIN:VEVENT
UID:286@breatheatlanta.us
DTSTART;TZID=America/New_York:20240609T140000
DTEND;TZID=America/New_York:20240609T180000
DTSTAMP:20240525T102600Z
URL:https://breatheatlanta.us/events/salon-de-the/
SUMMARY:Salon de Thé
DESCRIPTION:Step into an immersive experience of French joie de vivre at Sa
 lon de Thé\, an event dedicated to fashion\, culture\, and charitable giv
 ing\, benefiting Alliance Française Atlanta.\nEvent Highlights\nInteracti
 ve Exploration: Engage in an interactive and entertaining journey through 
 French culture and style\, with activities designed to delight and inspire
 .\n\nSumptuous Treats: Delight your taste buds with a selection of sumptuo
 us treats specially prepared for Salon de Thé\, offering a tantalizing bl
 end of flavors and textures.\n\nBenefit Auction: Discover one of the fines
 t benefit auctions in the southeast\, featuring exclusive items and experi
 ences up for grabs\, with proceeds supporting Alliance Française Atlanta'
 s mission.\n\nFine Wines Spirits Pull: Select from a curated collection of
  fine wines and spirits\, each offering a taste of luxury and refinement.\
 n\nFashion Showcase: Immerse yourself in an exquisite showcase of French f
 ashion\, featuring designs that embody elegance\, sophistication\, and tim
 eless style.\n\nChapeaux de Chapeaux Hat Parade: Participate in the Chapea
 ux de Chapeaux juried Hat Parade\, where attendees flaunt their most fashi
 onable headwear in a display of creativity and flair.\nAttire\nEmbrace the
  spirit of the event with fashionably chic attire\, where hats are not jus
 t encouraged but celebrated as a symbol of style and sophistication.\nJoin
  the Celebration\nDon't miss your chance to experience the magic of Salon 
 de Thé—a celebration of French culture\, style\, and joie de vivre—al
 l while supporting a worthy cause. Grab your tickets\, don your most fashi
 onable hat\, and prepare for an unforgettable evening of elegance and exci
 tement!\n\nGET TICKETS\n
ATTACH;FMTTYPE=image/jpeg:https://breatheatlanta.us/wp-content/uploads/202
 4/05/Salon-de-The.jpg
LOCATION:The Ritz Carlton\, 181 Peachtree Street\, Northeast Atlanta\, Geor
 gia\, 30303\, GA\, United States
X-APPLE-STRUCTURED-LOCATION;VALUE=URI;X-ADDRESS=181 Peachtree Street\, Nort
 heast Atlanta\, Georgia\, 30303\, GA\, United States;X-APPLE-RADIUS=100;X-
 TITLE=The Ritz Carlton:geo:0,0
END:VEVENT
BEGIN:VTIMEZONE
TZID:America/New_York
X-LIC-LOCATION:America/New_York
BEGIN:DAYLIGHT
DTSTART:20240310T030000
TZOFFSETFROM:-0500
TZOFFSETTO:-0400
TZNAME:EDT
END:DAYLIGHT
END:VTIMEZONE
END:VCALENDAR