BEGIN:VCALENDAR
VERSION:2.0
PRODID:-//wp-events-plugin.com//7.2.3.1//EN
TZID:America/New_York
X-WR-TIMEZONE:America/New_York
BEGIN:VEVENT
UID:346@breatheatlanta.us
DTSTART;TZID=America/New_York:20240620T180000
DTEND;TZID=America/New_York:20240620T210000
DTSTAMP:20240627T103632Z
URL:https://breatheatlanta.us/events/sb-fashion-week-international-runway-
 show-pop-up-market/
SUMMARY:SB Fashion Week International Runway Show & Pop Up Market
DESCRIPTION:Prepare to be dazzled at Season 9 of Small Boutique Fashion Wee
 k Atlanta (SBFW)\, where the world's fashion elite converge for an extraor
 dinary display of creativity\, culture\, and couture. Scheduled for Saturd
 ay\, July 20th\, this event promises an unforgettable celebration of inter
 national style\, uniting designers\, influencers\, and fashion enthusiasts
  in an immersive experience.\n\nEvent Highlights:\n\nGlobal Fashion Extrav
 aganza: SBFW Atlanta epitomizes the essence of global fashion\, featuring 
 a curated lineup of esteemed international brands. From avant-garde pieces
  to timeless classics\, the runway showcases the latest trends that define
  contemporary fashion on a global scale.\n\nPlatform for Emerging Talent: 
 Renowned as a launchpad for both emerging and established designers\, SBFW
  Atlanta continues its legacy of spotlighting cutting-edge creativity. Eac
 h season\, the event introduces fresh voices and visionary perspectives\, 
 fostering connections between designers\, industry professionals\, and fas
 hion aficionados.\n\nPop-Up Market Experience: Beyond the runway spectacle
 \, attendees can immerse themselves in the SBFW Atlanta pop-up market. Her
 e\, they can explore exclusive collections and discover one-of-a-kind piec
 es from a diverse array of local and international designers. It's a uniqu
 e opportunity to shop directly from the creators and acquire pieces that r
 eflect individual style and global influence.\n\nCultural Fusion and Coutu
 re: SBFW Atlanta is more than just a fashion show—it's a cultural celebr
 ation that bridges continents through the language of style. Experience th
 e convergence of diverse aesthetics\, traditions\, and innovations that de
 fine the modern fashion landscape.\n\nWhy Attend?\n\nSB Fashion Week Inter
 national Runway Show &amp\; Pop Up Market invites fashion enthusiasts\, tr
 endsetters\, and anyone with a passion for style to witness the evolution 
 of fashion firsthand. Whether you're looking to discover emerging talents\
 , shop exclusive collections\, or simply immerse yourself in the vibrant e
 nergy of the fashion industry\, SBFW Atlanta Season 9 promises an enrichin
 g experience.\n\nSave the Date:\n\nMark your calendars for Saturday\, July
  20th\, and join us at Small Boutique Fashion Week Atlanta for an unparall
 eled journey through global fashion and culture. Don't miss your chance to
  be part of this prestigious event where runway meets creativity\, and whe
 re fashion dreams become reality. Secure your place among fashion's elite 
 and embrace the spirit of SBFW Atlanta Season 9!\n\nGET TICKETS\n
ATTACH;FMTTYPE=image/jpeg:https://breatheatlanta.us/wp-content/uploads/202
 4/06/SB-Fashion-Week-International-Runway-Show-Pop-Up-Market.jpg
CATEGORIES:Arts &amp; Performances,Things To Do
LOCATION:1397 Blashfield St SE\, 1397 Blashfield Street Southeast Atlanta\,
  Atlanta\, Georgia\, 30315\, GA \, United States
X-APPLE-STRUCTURED-LOCATION;VALUE=URI;X-ADDRESS=1397 Blashfield Street Sout
 heast Atlanta\, Atlanta\, Georgia\, 30315\, GA \, United States;X-APPLE-RA
 DIUS=100;X-TITLE=1397 Blashfield St SE:geo:0,0
END:VEVENT
BEGIN:VTIMEZONE
TZID:America/New_York
X-LIC-LOCATION:America/New_York
BEGIN:DAYLIGHT
DTSTART:20240310T030000
TZOFFSETFROM:-0500
TZOFFSETTO:-0400
TZNAME:EDT
END:DAYLIGHT
END:VTIMEZONE
END:VCALENDAR