BEGIN:VCALENDAR
VERSION:2.0
PRODID:-//wp-events-plugin.com//7.2.3.1//EN
TZID:America/New_York
X-WR-TIMEZONE:America/New_York
BEGIN:VEVENT
UID:323@breatheatlanta.us
DTSTART;TZID=America/New_York:20240612T170000
DTEND;TZID=America/New_York:20240614T210000
DTSTAMP:20240627T050742Z
URL:https://breatheatlanta.us/events/sbj-the-baobab-6th-annual-summer-danc
 e-intensive/
SUMMARY:SBJ - The Baobab 6th Annual Summer Dance Intensive
DESCRIPTION:Prepare for an incredible summer experience at the 6th Annual S
 ummer Dance Intensive hosted by SBJ - The Baobab. This event brings togeth
 er multiple instructors for an immersive exploration of history\, dance\, 
 song\, and rhythm.\n\nEvent Details:\n\n 	Activities: Participants will en
 gage in in-depth study sessions led by multiple instructors\, covering var
 ious aspects of dance\, music\, and cultural history.\n 	Workshops and Ses
 sions: Dive deep into the rich cultural heritage of dance\, song\, and rhy
 thm with expert guidance from experienced instructors.\n\nWhy Attend?\n\n 
 	Learning and Exploration: Immerse yourself in a comprehensive study of hi
 story\, dance\, song\, and rhythm\, led by knowledgeable instructors.\n 	C
 ultural Enrichment: Gain insights into diverse cultural traditions and pra
 ctices through engaging workshops and sessions.\n 	Community Connection: C
 onnect with fellow participants who share a passion for dance and cultural
  exploration.\n\nJoin Us:\n\nDon't miss out on this opportunity to deepen 
 your understanding of dance and culture at the SBJ - The Baobab 6th Annual
  Summer Dance Intensive. Reserve your spot today for an enriching and unfo
 rgettable experience.\n\nGET TICKETS\n
ATTACH;FMTTYPE=image/jpeg:https://breatheatlanta.us/wp-content/uploads/202
 4/06/SBJ-The-Baobab-6th-Annual-Summer-Dance-Intensive.jpg
CATEGORIES:Arts &amp; Performances
LOCATION:City Dance & Music\, 524 Plasters Avenue Northeast Atlanta\, Atlan
 ta\, Georgia\, 30324\, GA \, United States
X-APPLE-STRUCTURED-LOCATION;VALUE=URI;X-ADDRESS=524 Plasters Avenue Northea
 st Atlanta\, Atlanta\, Georgia\, 30324\, GA \, United States;X-APPLE-RADIU
 S=100;X-TITLE=City Dance & Music:geo:0,0
END:VEVENT
BEGIN:VTIMEZONE
TZID:America/New_York
X-LIC-LOCATION:America/New_York
BEGIN:DAYLIGHT
DTSTART:20240310T030000
TZOFFSETFROM:-0500
TZOFFSETTO:-0400
TZNAME:EDT
END:DAYLIGHT
END:VTIMEZONE
END:VCALENDAR