BEGIN:VCALENDAR
VERSION:2.0
PRODID:-//wp-events-plugin.com//7.2.3.1//EN
TZID:America/New_York
X-WR-TIMEZONE:America/New_York
BEGIN:VEVENT
UID:496@breatheatlanta.us
DTSTART;TZID=America/New_York:20241001T090000
DTEND;TZID=America/New_York:20241103T190000
DTSTAMP:20240928T052957Z
URL:https://breatheatlanta.us/events/scarecrows-in-the-garden/
SUMMARY:Scarecrows in the Garden
DESCRIPTION:Atlanta’s cherished autumn event\, Scarecrows in the Garden\,
  is returning for its 22nd year\, marking a beloved tradition in the heart
  of the city. The event brings the season to life with an array of vibrant
  and imaginative scarecrows\, crafted by the local community to celebrate 
 the spirit of fall.\n\nThis year’s entries will once again be judged by 
 a distinguished panel\, with winners receiving an assortment of exciting p
 rizes. These include exclusive tickets to Premium Garden Lights\, Holiday 
 Nights\, family memberships to the Garden\, and specially curated gift bas
 kets from the Garden’s Gift Shop. The winners will be announced through 
 the Garden's social media channels on October 8.\n\nAdditionally\, the pop
 ular People’s Choice Award returns this year\, offering visitors the opp
 ortunity to vote for their favorite scarecrow. Those who cast a vote will 
 also have the chance to win a Family Membership\, further encouraging part
 icipation and community spirit.\n\nThe event is not only a showcase of cre
 ativity but also a celebration of community\, drawing people together to e
 njoy the beauty of the season.\n\nGET TICKETS\n
ATTACH;FMTTYPE=image/jpeg:https://breatheatlanta.us/wp-content/uploads/202
 4/09/Scarecrows-In-The-Garden.jpg
CATEGORIES:Nature Events,Things To Do
LOCATION:Atlanta Botanical Garden\, 1345 Piedmont Avenue\, N.E. Atlanta\, A
 tlanta\, Georgia\, 30309\, GA\, United States
X-APPLE-STRUCTURED-LOCATION;VALUE=URI;X-ADDRESS=1345 Piedmont Avenue\, N.E.
  Atlanta\, Atlanta\, Georgia\, 30309\, GA\, United States;X-APPLE-RADIUS=1
 00;X-TITLE=Atlanta Botanical Garden:geo:0,0
END:VEVENT
BEGIN:VTIMEZONE
TZID:America/New_York
X-LIC-LOCATION:America/New_York
BEGIN:DAYLIGHT
DTSTART:20240310T030000
TZOFFSETFROM:-0500
TZOFFSETTO:-0400
TZNAME:EDT
END:DAYLIGHT
BEGIN:STANDARD
DTSTART:20241103T010000
TZOFFSETFROM:-0400
TZOFFSETTO:-0500
TZNAME:EST
END:STANDARD
END:VTIMEZONE
END:VCALENDAR