BEGIN:VCALENDAR
VERSION:2.0
PRODID:-//wp-events-plugin.com//7.2.3.1//EN
TZID:America/New_York
X-WR-TIMEZONE:America/New_York
BEGIN:VEVENT
UID:619@breatheatlanta.us
DTSTART;TZID=America/New_York:20241108T070000
DTEND;TZID=America/New_York:20241109T000000
DTSTAMP:20241013T133747Z
URL:https://breatheatlanta.us/events/sclerotherapy-for-physicians-nurses-a
 tlanta-ga/
SUMMARY:Sclerotherapy for Physicians & Nurses - Atlanta\, GA
DESCRIPTION:Empire Medical Training offers a comprehensive Sclerotherapy Se
 minar designed for physicians and nurses looking to enhance their expertis
 e in cosmetic vein treatments. This program combines didactic lectures wit
 h hands-on training\, providing participants with both the theoretical kno
 wledge and practical skills required to safely and effectively perform scl
 erotherapy.\n\nIn the morning session\, learners will attend lectures cove
 ring essential topics such as venous anatomy\, the pathophysiology of veno
 us diseases\, and the proper use of FDA-approved sclerosants. In the after
 noon session\, participants will engage in small group hands-on practice\,
  administering sclerotherapy injections under expert supervision. The goal
  is to equip attendees with the ability to treat patients presenting with 
 both medical and cosmetic vein conditions\, addressing areas often overloo
 ked in standard medical education.\n\nLearning Outcomes\n\n 	Skill Develop
 ment: Participants will gain the necessary skills to identify ideal candid
 ates for aesthetic procedures and perform sclerotherapy with precision\, r
 esulting in greater patient satisfaction.\n 	Enhanced Medical Knowledge: A
 ttendees will deepen their understanding of venous anatomy and the underly
 ing causes of both medical and aesthetic venous diseases. They will improv
 e their diagnostic capabilities and\, as a result\, deliver better patient
  outcomes.\n 	Comprehensive Treatment Plans: Learners will acquire the tec
 hnical skills needed to safely administer sclerotherapy\, performing physi
 cal examinations to select suitable candidates and ensuring proper treatme
 nt protocols for patient safety.\n\nEducational Objectives\n\nBy the end o
 f this program\, participants will be able to:\n\n 	Competently and safely
  perform cosmetic sclerotherapy injections\, understanding how to avoid ri
 sks and potential complications.\n 	Apply accepted protocols for the use o
 f FDA-approved sclerosants to treat unwanted veins\, including arterioles\
 , telangiectasias\, and reticular veins. Attendees will also learn how to 
 manage patient intake forms\, informed consents\, and adverse events.\n 	U
 nderstand the mechanism of action of sclerosants\, the basics of venous an
 atomy\, product characteristics\, and the management of patient expectatio
 ns. They will also learn the proper aftercare protocols for follow-up afte
 r sclerotherapy procedures.\n 	Identify the ideal candidates for sclerothe
 rapy and educate patients about the causes of unwanted veins\, including e
 nvironmental factors. Attendees will be able to offer enhanced care and in
 crease patient awareness regarding the management of facial and leg veins.
 \n\nProgram Benefits This seminar provides an excellent opportunity for he
 althcare professionals to:\n\n 	Improve patient care by mastering cosmetic
  vein treatments\n 	Expand their knowledge of venous disease and sclerothe
 rapy techniques\n 	Earn continuing education credits while gaining hands-o
 n experience in administering sclerosants\n\nFor more information\, contac
 t Empire Medical Training at 866-366-1576 or visit their Sclerotherapy Tra
 ining page.\n\nThis course is essential for healthcare providers seeking t
 o elevate their aesthetic practice and offer patients more comprehensive\,
  safe\, and effective sclerotherapy treatments.\n\nGET TICKETS\n
ATTACH;FMTTYPE=image/jpeg:https://breatheatlanta.us/wp-content/uploads/202
 4/10/Sclerotherapy.jpeg
CATEGORIES:Wellness Events
LOCATION:The Westin Buckhead Atlanta\, 3391 Peachtree Road\,  Northeast Atl
 anta\, Georgia\, 30326\, GA\, United States
X-APPLE-STRUCTURED-LOCATION;VALUE=URI;X-ADDRESS=3391 Peachtree Road\,  Nort
 heast Atlanta\, Georgia\, 30326\, GA\, United States;X-APPLE-RADIUS=100;X-
 TITLE=The Westin Buckhead Atlanta:geo:0,0
END:VEVENT
BEGIN:VTIMEZONE
TZID:America/New_York
X-LIC-LOCATION:America/New_York
BEGIN:STANDARD
DTSTART:20241103T010000
TZOFFSETFROM:-0400
TZOFFSETTO:-0500
TZNAME:EST
END:STANDARD
END:VTIMEZONE
END:VCALENDAR