BEGIN:VCALENDAR
VERSION:2.0
PRODID:-//wp-events-plugin.com//7.2.3.1//EN
TZID:America/New_York
X-WR-TIMEZONE:America/New_York
BEGIN:VEVENT
UID:635@breatheatlanta.us
DTSTART;TZID=America/New_York:20241024T180000
DTEND;TZID=America/New_York:20241025T000000
DTSTAMP:20241018T071531Z
URL:https://breatheatlanta.us/events/seafood-karaoke-thursdays-cafe-circa/
SUMMARY:SEAFOOD KARAOKE THURSDAYS | CAFE CIRCA
DESCRIPTION:Every Thursday night\, Cafe Circa transforms into Atlanta's ult
 imate destination for seafood lovers and karaoke enthusiasts alike. This v
 ibrant weekly event\, known as Seafood Karaoke Thursdays\, invites everyon
 e to indulge in a delightful evening filled with delectable dishes\, livel
 y music\, and unforgettable moments.\n\nEvent Highlights:\n\n 	Seafood Del
 ights: Guests can treat their taste buds to a selection of mouthwatering s
 eafood specials that cater to every craving. The menu features a variety o
 f options\, including:\n\n 	$7 Seafood Specials: Enjoy flavorful selection
 s such as Oysters\, Calamari\, and Crab Cakes.\n 	$10 Seafood Specials: Di
 ve into hearty plates of Crab Legs\, Shrimp Baskets\, Catfish Baskets\, an
 d Salmon Baskets.\n\n\n 	Karaoke Fun: Step up to the mic and showcase your
  vocal talents while singing your heart out to a wide range of musical gen
 res. Whether you're a seasoned performer or a first-timer\, the karaoke ex
 perience promises a night of laughter and entertainment for all.\n 	Top DJ
 s: Dance the night away to beats curated by Atlanta's best DJs\, who will 
 spin an eclectic mix of music that keeps the energy high and the crowd eng
 aged.\n 	Two Levels\, Two Bars: With ample space to mingle\, Cafe Circa of
 fers two levels and two bars\, ensuring guests can find the perfect spot t
 o relax and enjoy the festivities.\n 	Drink Specials: Sip on refreshing be
 verages with enticing drink specials\, including $10 Margaritas and Lemon 
 Drops that are perfect for toasting the night.\n\nJoin in the fun at Seafo
 od Karaoke Thursdays\, where great food\, good music\, and a lively atmosp
 here come together for an unforgettable experience. Bring your friends\, u
 nleash your inner rock star\, and make some lasting memories at Atlanta's 
 favorite happy hour! Don't miss out on this perfect blend of culinary deli
 ght and musical flair.\n\nGET TICKETS\n
ATTACH;FMTTYPE=image/jpeg:https://breatheatlanta.us/wp-content/uploads/202
 4/10/SEAFOOD-KARAOKE-THURSDAYS-CAFE-CIRCA.jpg
CATEGORIES:Food &amp; Drink Events,Things To Do
LOCATION:Cafe Circa\, 464 Edgewood Avenue Southeast Atlanta\, Atlanta\, Geo
 rgia\, 30312\, GA\, United States
X-APPLE-STRUCTURED-LOCATION;VALUE=URI;X-ADDRESS=464 Edgewood Avenue Southea
 st Atlanta\, Atlanta\, Georgia\, 30312\, GA\, United States;X-APPLE-RADIUS
 =100;X-TITLE=Cafe Circa:geo:0,0
END:VEVENT
BEGIN:VTIMEZONE
TZID:America/New_York
X-LIC-LOCATION:America/New_York
BEGIN:DAYLIGHT
DTSTART:20240310T030000
TZOFFSETFROM:-0500
TZOFFSETTO:-0400
TZNAME:EDT
END:DAYLIGHT
END:VTIMEZONE
END:VCALENDAR