BEGIN:VCALENDAR
VERSION:2.0
PRODID:-//wp-events-plugin.com//7.2.3.1//EN
TZID:America/New_York
X-WR-TIMEZONE:America/New_York
BEGIN:VEVENT
UID:596@breatheatlanta.us
DTSTART;TZID=America/New_York:20241026T150000
DTEND;TZID=America/New_York:20241028T110000
DTSTAMP:20241010T161754Z
URL:https://breatheatlanta.us/events/second-annual-foundation-of-self-love
 -retreat/
SUMMARY:Second annual Foundation of Self Love Retreat
DESCRIPTION:Join us for the Second Annual Foundation of Self Love Retreat\,
  a transformative weekend designed to nurture self-care\, empowerment\, an
 d personal growth. Held from September 26th to September 28th\, 2024 in At
 lanta\, this retreat provides the perfect space for individuals to reconne
 ct with themselves\, build a foundation of self-love\, and invest in perso
 nal development.\n\nThroughout the weekend\, a team of experienced facilit
 ators will lead participants through a series of workshops\, meditations\,
  and interactive activities. These sessions are crafted to guide you on a 
 journey of self-discovery\, self-acceptance\, and inner healing. It’s a 
 unique opportunity to prioritize your well-being and gain valuable insight
 s into cultivating a healthy\, loving relationship with yourself.\n\nThis 
 retreat also sets the stage for the Hustle to Heal session in October\, co
 inciding with Depression and Mental Health Awareness Month. Mental health 
 is essential for personal and professional success\, and this retreat is t
 ailored to address the mental barriers that often go unnoticed but affect 
 millions of people. Whether you're a single mother balancing entrepreneurs
 hip\, college\, and motherhood\, or someone navigating life with a mental 
 health condition like dyslexia\, this retreat is for you. We believe in tu
 rning these challenges into stepping stones toward success\, with the help
  of prominent figures and expert speakers who will be joining us in Atlant
 a.\n\nTicket Options:\n\n 	Early Bird VIP Tickets ($350): Includes everyth
 ing for your 3-day stay—meals\, open bar\, and access to two major event
 s.\n 	General Admission Tickets ($30): Gain insights into self-love\, busi
 ness fundamentals\, credit building (personal and business)\, and intentio
 nal living.\n\nThis is your chance to create the life you desire\, grounde
 d in self-love and mental well-being. Stay tuned for details on ticket pur
 chases\, and we look forward to seeing you in Atlanta for this life-changi
 ng experience!\n\nGET TICKETS\n
ATTACH;FMTTYPE=image/jpeg:https://breatheatlanta.us/wp-content/uploads/202
 4/10/Second-annual-Foundation-of-Self-Love-Retreat.jpeg
CATEGORIES:Retreats Events
LOCATION:Atlanta\, Pr Atlanta\, Pr Atlanta\, California\, 30311\, CA\, Unit
 ed States
X-APPLE-STRUCTURED-LOCATION;VALUE=URI;X-ADDRESS=Pr Atlanta\, Pr Atlanta\, C
 alifornia\, 30311\, CA\, United States;X-APPLE-RADIUS=100;X-TITLE=Atlanta:
 geo:0,0
END:VEVENT
BEGIN:VTIMEZONE
TZID:America/New_York
X-LIC-LOCATION:America/New_York
BEGIN:DAYLIGHT
DTSTART:20240310T030000
TZOFFSETFROM:-0500
TZOFFSETTO:-0400
TZNAME:EDT
END:DAYLIGHT
END:VTIMEZONE
END:VCALENDAR