BEGIN:VCALENDAR
VERSION:2.0
PRODID:-//wp-events-plugin.com//7.2.3.1//EN
TZID:America/New_York
X-WR-TIMEZONE:America/New_York
BEGIN:VEVENT
UID:246@breatheatlanta.us
DTSTART;TZID=America/New_York:20240504T130000
DTEND;TZID=America/New_York:20240504T160000
DTSTAMP:20240416T145822Z
URL:https://breatheatlanta.us/events/self-care-a-health-and-wellness/
SUMMARY:"Standing On Self Care": A Health and Wellness Workshop for Teenage
  Girls
DESCRIPTION:\nEmpower Yourself: "Standing on Self-Care" for Teen Girls!\nCa
 lling all teenage girls (ages 12-17)! Join the Alpha Gamma Chapter of Gamm
 a Phi Delta Sorority's Youth Committee for an empowering afternoon of self
 -care and mental health awareness.\n"Standing on Self-Care" Workshop:\nThi
 s free in-person event\, held on Saturday\, May 4th\, 2024 at 1:00 PM in M
 arietta\, GA\, is designed specifically for you!\nThe Power of Self-Care:\
 n\n\n 	Learn valuable strategies to prioritize your mental and physical we
 ll-being.\n 	Participate in interactive games and activities to make self-
 care fun and engaging.\n 	Connect with other like-minded girls on a journe
 y of self-discovery and empowerment.\n\nA Safe Space for You:\nThis worksh
 op creates a safe and supportive environment for you to explore self-care 
 practices and develop tools for a happier\, healthier you. Parents will at
 tend a separate Zoom call beforehand to discuss the event's safety measure
 s and topics.\nDress Code:\nComfy\, casual\, and cute! We encourage you to
  wear your favorite shade of pink to show your support for self-care.\nRea
 dy to Invest in Yourself?\nDon't miss this opportunity to learn\, connect\
 , and prioritize your well-being! Space is limited\, so register today for
  this free event (donations appreciated!). See you there!\nLet's build a c
 ommunity of strong\, empowered young women!\n\n\n\nRESERVE SPOTS\n
ATTACH;FMTTYPE=image/jpeg:https://breatheatlanta.us/wp-content/uploads/202
 4/04/https___cdn.evbuc_.com_images_735286319_522550277971_1_original.jpeg
CATEGORIES:Wellness Events
LOCATION:580 Fort St NE a\,   580 Fort Street Northeast #a Marietta\, \, GA
  \,  United States\, 30060\, GA \, United States
X-APPLE-STRUCTURED-LOCATION;VALUE=URI;X-ADDRESS=  580 Fort Street Northeast
  #a Marietta\, \, GA \,  United States\, 30060\, GA \, United States;X-APP
 LE-RADIUS=100;X-TITLE=580 Fort St NE a:geo:0,0
END:VEVENT
BEGIN:VTIMEZONE
TZID:America/New_York
X-LIC-LOCATION:America/New_York
BEGIN:DAYLIGHT
DTSTART:20240310T030000
TZOFFSETFROM:-0500
TZOFFSETTO:-0400
TZNAME:EDT
END:DAYLIGHT
END:VTIMEZONE
END:VCALENDAR