BEGIN:VCALENDAR
VERSION:2.0
PRODID:-//wp-events-plugin.com//7.2.3.1//EN
TZID:America/New_York
X-WR-TIMEZONE:America/New_York
BEGIN:VEVENT
UID:344@breatheatlanta.us
DTSTART;TZID=America/New_York:20240721T090000
DTEND;TZID=America/New_York:20240721T150000
DTSTAMP:20240627T080659Z
URL:https://breatheatlanta.us/events/self-care-soiree-atl-edition/
SUMMARY:Self Care Soiree- ATL edition
DESCRIPTION:Join the Safe Space Day Retreat for a rejuvenating day of self-
 care at the Self Care Soirée: ATL Edition! This in-person event is design
 ed to help you recharge\, reset\, and have fun\, offering a perfect opport
 unity to indulge in self-care that nourishes your mind\, body\, and soul.\
 n\nEvent Highlights:\n\n 	Book of Intention: Each attendee will complete a
  book of intention\, creating a personalized plan of action to change the 
 trajectory of their lives. This reflective exercise aims to empower and in
 spire transformation.\n 	Healing Sessions: Experience the calming benefits
  of a sound healing session and enjoy massages from professional therapist
 s. These activities are designed to promote relaxation and healing for the
  mind and body.\n 	Luxury Bali-Inspired Floating Brunch: Delight in a luxu
 rious floating brunch inspired by Bali\, featuring delicious and healthy d
 ishes. This unique dining experience adds an exotic touch to your self-car
 e day.\n 	Pool and Hot Tub Relaxation: Take advantage of the pool and hot 
 tub facilities to unwind and relax. This serene environment is perfect for
  soaking away stress and rejuvenating your spirit.\n\nWhy Attend?\n\nThe S
 elf Care Soirée is more than just an event\; it's an investment in your w
 ell-being and happiness. This retreat offers a unique blend of activities 
 that promote self-discovery\, relaxation\, and personal growth. Whether yo
 u're looking to destress\, find inspiration\, or simply enjoy a day of pam
 pering\, the Self Care Soirée has something for everyone.\n\nDon't Miss O
 ut!\n\nSpace is limited\, and the price will increase as the event date ap
 proaches. Secure your spot now to ensure you don't miss this incredible op
 portunity to prioritize yourself and discover new ways to practice self-ca
 re.\n\nJoin us at the Self Care Soirée: ATL Edition and take the first st
 ep towards investing in your own happiness and well-being!\n\nGET TICKETS\
 n
ATTACH;FMTTYPE=image/jpeg:https://breatheatlanta.us/wp-content/uploads/202
 4/06/Self-Care-Soiree-ATL-edition.jpg
CATEGORIES:Arts &amp; Performances,Mindfulness Events
LOCATION:Marietta\, 610 Kentucky Street Scottdale\, Atlanta\, Georgia\, GA 
 \, United States
X-APPLE-STRUCTURED-LOCATION;VALUE=URI;X-ADDRESS=610 Kentucky Street Scottda
 le\, Atlanta\, Georgia\, GA \, United States;X-APPLE-RADIUS=100;X-TITLE=Ma
 rietta:geo:0,0
END:VEVENT
BEGIN:VTIMEZONE
TZID:America/New_York
X-LIC-LOCATION:America/New_York
BEGIN:DAYLIGHT
DTSTART:20240310T030000
TZOFFSETFROM:-0500
TZOFFSETTO:-0400
TZNAME:EDT
END:DAYLIGHT
END:VTIMEZONE
END:VCALENDAR