BEGIN:VCALENDAR
VERSION:2.0
PRODID:-//wp-events-plugin.com//7.2.3.1//EN
TZID:America/New_York
X-WR-TIMEZONE:America/New_York
BEGIN:VEVENT
UID:276@breatheatlanta.us
DTSTART;TZID=America/New_York:20240525T130000
DTEND;TZID=America/New_York:20240525T153000
DTSTAMP:20240513T183036Z
URL:https://breatheatlanta.us/events/self-care-workshop-life-coach/
SUMMARY:Self-Care Workshop | Life Coach Caron Jones - James
DESCRIPTION:\nReclaim Your Power: A Mind\, Body\, Soul Rejuvenation Event w
 ith Life Coach Caron Jones-James\nFeeling lost\, unmotivated\, or disconne
 cted? Seeking a path towards a more fulfilling and empowered life? Join Li
 fe Coach Caron Jones-James for a transformative event designed to nourish 
 your mind\, body\, and soul.\nA Journey of Inner Renewal:\n\n\n 	Holistic 
 Approach: This event goes beyond the surface\, addressing your emotional\,
  physical\, and spiritual well-being. Discover how these aspects of your b
 eing are interconnected and how to cultivate a sense of wholeness.\n 	Reig
 nite Your Motivation: Leave behind feelings of stagnation and uncertainty.
  Caron will equip you with powerful tools and resources to stay motivated 
 and pursue your goals with renewed passion and clarity.\n 	Understanding Y
 our Inner World: Gain profound insights into the connection between your m
 ind\, body\, and soul. Learn how to harness the power of each to create a 
 more harmonious and fulfilling life.\n 	Connecting with Like-Minded Indivi
 duals: Surround yourself with a supportive community of individuals who sh
 are your desire for personal growth and inner peace. Build meaningful conn
 ections and learn from each other's experiences.\n\nExperience the Benefit
 s:\n\n\n 	Renewed Self-Love: Embrace self-compassion and discover how to n
 ourish yourself with love and understanding.\n 	Empowerment: Gain the tool
 s and confidence to navigate life's obstacles and overcome challenges with
  resilience.\n 	Inner Peace: Cultivate a sense of calmness and tranquility
  within yourself\, regardless of external circumstances.\n\nAn Invitation 
 to Transform:\n\n\n 	A Unique Opportunity: This event is not just another 
 seminar\; it's a transformative experience designed to leave a lasting imp
 act.\n 	For Everyone: Whether you're a seasoned seeker of personal growth 
 or just starting your journey\, this event welcomes you with open arms.\n\
 nTake the first step towards a more fulfilling life! Register for Caron Jo
 nes-James's Mind\, Body\, Soul Rejuvenation Event and unlock your potentia
 l for a brighter future.\nHashtags:\n#MindBodySoul #Rejuvenation #Motivati
 on #LifeTransformation #EmpoweringYou #CaronJonesJames\n\n\n\nBUY TICKETS\
 n
ATTACH;FMTTYPE=image/jpeg:https://breatheatlanta.us/wp-content/uploads/202
 4/05/https___cdn.evbuc_.com_images_748569989_1356107524313_1_original.jpeg
CATEGORIES:Wellness Events
LOCATION:383 Swanson Dr\, 383 Swanson Drive \, Lawrenceville\, Georgia\, 30
 043 \, United States
X-APPLE-STRUCTURED-LOCATION;VALUE=URI;X-ADDRESS=383 Swanson Drive \, Lawren
 ceville\, Georgia\, 30043 \, United States;X-APPLE-RADIUS=100;X-TITLE=383 
 Swanson Dr:geo:0,0
END:VEVENT
BEGIN:VTIMEZONE
TZID:America/New_York
X-LIC-LOCATION:America/New_York
BEGIN:DAYLIGHT
DTSTART:20240310T030000
TZOFFSETFROM:-0500
TZOFFSETTO:-0400
TZNAME:EDT
END:DAYLIGHT
END:VTIMEZONE
END:VCALENDAR