BEGIN:VCALENDAR
VERSION:2.0
PRODID:-//wp-events-plugin.com//7.2.3.1//EN
TZID:America/New_York
X-WR-TIMEZONE:America/New_York
BEGIN:VEVENT
UID:130@breatheatlanta.us
DTSTART;TZID=America/New_York:20240413T140000
DTEND;TZID=America/New_York:20240413T170000
DTSTAMP:20240909T101450Z
URL:https://breatheatlanta.us/events/self-love-and-pleasure-workshop-for-w
 omen/
SUMMARY:Self-Love and Pleasure Workshop for Women
DESCRIPTION:Prepare to embrace self-love and delve into the exploration of 
 pleasure at our empowering workshop tailored exclusively for women. Join u
 s this April for an experience dedicated to nurturing your well-being and 
 enhancing your sense of fulfillment.\n\nEvent Information:\n\nEvent Name: 
 Self-Love and Pleasure Workshop for Women\n\nHosted By: The Tantric MFT\n\
 nDate and Time: Saturday\, April 13\, 2:00 PM - 5:00 PM EDT\n\nLocation: T
 he Double V Atlanta\, 5205 Koweta Road\, Atlanta\, GA 30349\, United State
 s\n\nAbout This Event:\n\nEmbrace self-love and explore pleasure at our em
 powering workshop exclusively designed for women. Hosted by Dr. Candice (t
 hetantricmft) and Shontwel (Shontwel's Circle of Healing)\, this session a
 ims to:\n\nUnravel societal constraints and embrace the essence of self-lo
 ve.\n\nExplore and appreciate the divine feminine attributes within oursel
 ves.\n\nDelve into vulnerable spaces to foster deeper connections with our
  bodies.\n\nCultivate intimacy with ourselves to enhance experiences of lo
 ve and pleasure\, leading to a more blissful lifestyle.\n\nCome dressed in
  your radiant red attire and embrace your inner beauty and sensuality. Thi
 s workshop is dedicated to you\, encouraging self-expression and empowerme
 nt.\n\nTicket Information:\n\nTicket Name: Self Care and Pleasure Ticket\n
 \nPrice: $99.00\n\nFees: $8.48\n\nSales Tax: $8.33\n\nTotal: $115.81\n\nGE
 T TICKETS\n\n\n\n\n\n\n\n\n\n\n\n\n\n\n\nEssential to Bring:\n\nAttendees 
 are encouraged to bring:\n\nComfortable clothing suitable for movement and
  introspection.\n\nWriting materials (notebook\, pen) for personal reflect
 ions or exercises.\n\nParking Options:\n\nParking details for The Double V
  Atlanta:\n\nFree on-site parking is available for attendees.\n\nPlease fo
 llow signage and instructions from event staff for parking arrangements.\n
 \nRefund Policy:\n\nFor refund inquiries\, please contact the event organi
 zer directly. Refunds are subject to organizer approval\, and Eventbrite's
  fee is nonrefundable.\n\n\n\n\n\n\n\n\n\n\n\n\n
ATTACH;FMTTYPE=image/jpeg:https://breatheatlanta.us/wp-content/uploads/202
 4/03/https-__cdn.evbuc_.com_images_687826379_145445648242_1_original.jpeg
LOCATION:The Double V Atlanta\, 5205 Koweta Road Atlanta\, GA 30349 United 
 States\, GA \, United States\, 30349 \, GA\, United States
X-APPLE-STRUCTURED-LOCATION;VALUE=URI;X-ADDRESS=5205 Koweta Road Atlanta\, 
 GA 30349 United States\, GA \, United States\, 30349 \, GA\, United States
 ;X-APPLE-RADIUS=100;X-TITLE=The Double V Atlanta:geo:0,0
END:VEVENT
BEGIN:VTIMEZONE
TZID:America/New_York
X-LIC-LOCATION:America/New_York
BEGIN:DAYLIGHT
DTSTART:20240310T030000
TZOFFSETFROM:-0500
TZOFFSETTO:-0400
TZNAME:EDT
END:DAYLIGHT
END:VTIMEZONE
END:VCALENDAR