BEGIN:VCALENDAR
VERSION:2.0
PRODID:-//wp-events-plugin.com//7.2.3.1//EN
TZID:America/New_York
X-WR-TIMEZONE:America/New_York
BEGIN:VEVENT
UID:202@breatheatlanta.us
DTSTART;TZID=America/New_York:20240525T130000
DTEND;TZID=America/New_York:20240525T150000
DTSTAMP:20240401T075317Z
URL:https://breatheatlanta.us/events/self-love-selfie-somatic-yoga-worksho
 p/
SUMMARY:Self-Love Selfie: Somatic Yoga Workshop
DESCRIPTION:\n\n\n\n\n\n\n\n\n\n\n\n\n\n\n\n\n\n\n\n\n\n\n\n\nSoF invites y
 ou to an evening of somatic yoga\, sensuality tips\, and empowering goodie
 s to enrich your journey. Depart feeling confident and radiant\, as you de
 lve into this transformative experience. Please note\, this event is exclu
 sively for individuals aged 21 and above.\n\n\n\n\n\n\n\n\n\n\n\n\n\nEvent
  Information:\n\nEvent Name: Self-Love Selfie: Somatic Yoga Workshop\n\nD
 ate and Time: Saturday\, May 25\, 1:00 PM - 3:00 PM EDT.\n\nLocation: Have
 n Yoga\, 2011 Bolton Road Northwest #Suite #203\, Atlanta\, GA 30318\, Uni
 ted States\n\nTicket Price:\n\nGeneral Admission: $30.00 (+$3.85 Fee)\n\n2
  for 1 Admission: $32.00 (+$3.98 Fee)\n\nGET TICKETS\n\n\n\nAbout this Eve
 nt: Welcome to SoF's Somatic Yoga Workshop! Experience the transformative 
 power of "Self-Love Selfie\," an event dedicated to helping women deepen t
 heir connection with their femininity. Immerse yourself in a blissful yoga
  flow session designed to enhance body awareness and self-confidence. Lear
 n practical tips and tricks to feel more comfortable and empowered in your
  body and capture your newfound confidence with an amazing selfie as a tan
 gible reminder of your self-love and acceptance. Leave with a curated good
 ie bag filled with tools and resources to support your ongoing journey.\n\
 nWorkout Session Detail:\n\nDuration: 2 hours\n\nFocus: Somatic yoga flow 
 tailored to enhance body awareness and self-confidence.\n\nEssentials to B
 ring:\n\nYoga mat\n\nWater\n\nBlanket\n\nLip moisturizer\n\nParking Option
 : Available at Haven Yoga.\n\nRefund Policy: No refunds.\n\nThis event pro
 vides a safe and sensual space reserved for women only\, where every femin
 ine body\, regardless of yoga experience or fitness level\, finds belongin
 g. Embrace self-love and empowerment Shades of Femininity on this transfor
 mative journey. Reserve your spot today!\n\n\n\n\n\n\n\n\n\n\n\n\n\n
ATTACH;FMTTYPE=image/jpeg:https://breatheatlanta.us/wp-content/uploads/202
 4/04/https___cdn.evbuc_.com_images_732215149_2060879494333_1_original.jpeg
CATEGORIES:Wellness Events,Yoga Events
LOCATION:Haven Yoga\, 2011 Bolton Road Northwest #Suite #203 Atlanta\, GA 3
 0318 United States\,  GA \,  United States\, 30318\, GA\, United States
X-APPLE-STRUCTURED-LOCATION;VALUE=URI;X-ADDRESS=2011 Bolton Road Northwest 
 #Suite #203 Atlanta\, GA 30318 United States\,  GA \,  United States\, 303
 18\, GA\, United States;X-APPLE-RADIUS=100;X-TITLE=Haven Yoga:geo:0,0
END:VEVENT
BEGIN:VTIMEZONE
TZID:America/New_York
X-LIC-LOCATION:America/New_York
BEGIN:DAYLIGHT
DTSTART:20240310T030000
TZOFFSETFROM:-0500
TZOFFSETTO:-0400
TZNAME:EDT
END:DAYLIGHT
END:VTIMEZONE
END:VCALENDAR