BEGIN:VCALENDAR
VERSION:2.0
PRODID:-//wp-events-plugin.com//7.2.3.1//EN
TZID:America/New_York
X-WR-TIMEZONE:America/New_York
BEGIN:VEVENT
UID:773@breatheatlanta.us
DTSTART;TZID=America/New_York:20250216T123000
DTEND;TZID=America/New_York:20250216T140000
DTSTAMP:20250211T180953Z
URL:https://breatheatlanta.us/events/self-love-yoga-sound-for-mamas-auntie
 s/
SUMMARY:Self-Love\, Yoga + Sound | For Mamas ( & aunties )
DESCRIPTION:\n\n\n\nSelf-Love\, Yoga + Sound | For Mamas (and Aunties)\nDis
 cover the ultimate reset for both body and mind with Self-Love\, Yoga + So
 und\, a transformative monthly experience at The Sunrei's Yoga &amp\; Soun
 d. This session is specifically designed to give mamas and aunties a much-
 needed break\, blending physical movement with deep inner work to nourish 
 both your muscles and your soul.\nEach class goes beyond just yoga\, offer
 ing a safe space for self-reflection and inner growth. The experience is g
 rounded in intention\, allowing participants to dive deeper into their wel
 l-being through guided group discussions. These conversations encourage mi
 ndfulness and emotional healing\, creating a holistic approach to self-car
 e.\nLed by Camrei\, a Masters-level Clinical Mental Health Counselor\, Yog
 a Instructor\, and Wellness Coach\, this class is crafted for women who se
 ek more than just a workout. Camrei's approach is rooted in prevention and
  maintenance\, not just repair. She focuses on deep stretches\, restoratio
 n\, breathwork\, and mindfulness techniques that promote long-term well-be
 ing. With her Sunrei Wellness Collective\, Camrei is passionate about prov
 iding access to tools that help individuals maintain balance and mental we
 llness in their lives.\n\nThis Month's Focus: Self-Love &amp\; the Heart\n
 In this special session\, the focus will be on cultivating self-love and h
 ealing the heart. The class will end with a sound bath and breathwork to s
 eal in the practice and leave you feeling refreshed and centered.\nJoin us
  at Highland Yoga's Westside location for a deeply restorative and enrichi
 ng experience. Don't miss this chance to nourish yourself physically\, men
 tally\, and emotionally. Reserve your ticket today and treat yourself to t
 his soulful reset!\n\nClass Highlights:\n\n 	Deep stretch and restoration 
 through yoga\n 	Self-reflection and group discussions focused on well-bein
 g\n 	Sound bath and breathwork to end the session\n 	Hosted by Camrei\, an
  experienced wellness expert passionate about community and self-care.\n\n
 This experience is the perfect opportunity for mamas and aunties to nouris
 h themselves\, find peace\, and embrace self-love.\n\n\n\n\n\n\n\n\n\n&nbs
 p\;\n\n&nbsp\;\n\n\n\n\n\nGET TICKETS\n
ATTACH;FMTTYPE=image/jpeg:https://breatheatlanta.us/wp-content/uploads/202
 5/02/Self-Love-Yoga-Sound-For-Mamas-aunties.jpg
CATEGORIES:Yoga Events
LOCATION:Highland Yoga - Westside\, 857 Collier Road Northwest\, 22 Atlanta
 \,  30318 \, GA\, United States
X-APPLE-STRUCTURED-LOCATION;VALUE=URI;X-ADDRESS=857 Collier Road Northwest\
 , 22 Atlanta\,  30318 \, GA\, United States;X-APPLE-RADIUS=100;X-TITLE=Hig
 hland Yoga - Westside:geo:0,0
END:VEVENT
BEGIN:VTIMEZONE
TZID:America/New_York
X-LIC-LOCATION:America/New_York
BEGIN:STANDARD
DTSTART:20241103T010000
TZOFFSETFROM:-0400
TZOFFSETTO:-0500
TZNAME:EST
END:STANDARD
END:VTIMEZONE
END:VCALENDAR