BEGIN:VCALENDAR
VERSION:2.0
PRODID:-//wp-events-plugin.com//7.2.3.1//EN
TZID:America/New_York
X-WR-TIMEZONE:America/New_York
BEGIN:VEVENT
UID:651@breatheatlanta.us
DTSTART;TZID=America/New_York:20241023T093000
DTEND;TZID=America/New_York:20241023T140000
DTSTAMP:20241018T082931Z
URL:https://breatheatlanta.us/events/senior-brunch-and-learn-georgia-aquar
 ium-stats-brewpub/
SUMMARY:Senior Brunch and Learn - Georgia Aquarium & STATS Brewpub
DESCRIPTION:The senior Panther alumni community is invited to reconnect and
  explore the wonders of the ocean at the magnificent Georgia Aquarium. Thi
 s engaging event offers a unique opportunity to dive into the depths of ma
 rine life while sharing experiences with fellow alumni. Attendees will hav
 e the chance to wander through exhibits showcasing millions of gallons of 
 water and a diverse array of oceanic creatures\, fostering a sense of wond
 er and camaraderie among the Panther community.\n\nFollowing this aquatic 
 adventure\, participants will enjoy a leisurely stroll to STATS Brewpub\, 
 where a delightful lunch awaits. During the meal\, attendees will be treat
 ed to an insightful presentation titled "Innovations in Wildlife Endocrino
 logy\," delivered by Dr. Rachel Moreland Santymire\, a respected faculty m
 ember from Georgia State University’s College of Arts and Sciences.\n\nT
 ickets for this memorable experience are priced at $50\, which includes lu
 nch\, full-day access to the aquarium\, and on-site self-parking. It is im
 portant to note that all guests must purchase a ticket to participate in t
 his event.\n\nEvent Schedule:\n\n 	9:30 AM – Doors open for check-in at 
 the Georgia Aquarium\, allowing guests to begin their self-guided tours of
  the various exhibits.\n 	12:00 PM – Participants will gather for a grou
 p walk to STATS Brewpub for lunch.\n 	12:30 PM – Enjoy a delicious lunch
  while attending Dr. Santymire’s engaging presentation.\n 	2:00 PM – T
 he formal portion of the event concludes\, but guests are welcome to conti
 nue exploring the aquarium until its closing time at 5:00 PM.\n\nThis even
 t is open to all members of the alumni community\, and accessibility is a 
 priority. The entire aquarium is wheelchair and walker accessible\, and as
 sistance wheelchairs are available for rent. Reconnect\, learn\, and share
  in the excitement of the ocean's wonders at this special brunch and learn
  event!\n\nGET TICKETS\n
ATTACH;FMTTYPE=image/jpeg:https://breatheatlanta.us/wp-content/uploads/202
 4/10/Senior-Brunch-and-Learn-Georgia-Aquarium-STATS-Brewpub.jpg
CATEGORIES:Things To Do
LOCATION:Georgia Aquarium\, 225 Baker Street Northwest Atlanta\, Atlanta\, 
 Georgia\, 30313\, GA\, United States
X-APPLE-STRUCTURED-LOCATION;VALUE=URI;X-ADDRESS=225 Baker Street Northwest 
 Atlanta\, Atlanta\, Georgia\, 30313\, GA\, United States;X-APPLE-RADIUS=10
 0;X-TITLE=Georgia Aquarium:geo:0,0
END:VEVENT
BEGIN:VTIMEZONE
TZID:America/New_York
X-LIC-LOCATION:America/New_York
BEGIN:DAYLIGHT
DTSTART:20240310T030000
TZOFFSETFROM:-0500
TZOFFSETTO:-0400
TZNAME:EDT
END:DAYLIGHT
END:VTIMEZONE
END:VCALENDAR