BEGIN:VCALENDAR
VERSION:2.0
PRODID:-//wp-events-plugin.com//7.2.3.1//EN
TZID:America/New_York
X-WR-TIMEZONE:America/New_York
BEGIN:VEVENT
UID:761@breatheatlanta.us
DTSTART;TZID=America/New_York:20250217T130000
DTEND;TZID=America/New_York:20250217T141500
DTSTAMP:20250204T182403Z
URL:https://breatheatlanta.us/events/sensual-yoga-valentines-day-workshop/
SUMMARY:Sensual Yoga Valentine's Day Workshop
DESCRIPTION:Experience a transformative evening of movement\, mindfulness\,
  and self-love at the Sensual Yoga VDay Workshop—an intimate and empower
 ing event at Fit &amp\; Fancy Dance Studio.\n\nDesigned for all levels\, f
 rom beginners to seasoned yogis\, this unique workshop invites participant
 s to deepen their connection with their bodies\, embrace sensuality throug
 h fluid movement\, and cultivate self-love in a warm and relaxing atmosphe
 re.\n\nThrough gentle stretches\, intentional breathing\, and mindful move
 ment\, attendees will awaken their senses\, enhance their body awareness\,
  and celebrate the art of self-care. Whether you’re looking to explore n
 ew dimensions of your yoga practice or simply indulge in an evening dedica
 ted to self-discovery and relaxation\, this event offers a space to reconn
 ect with your inner energy.\n\nJoin this exclusive Valentine's Day experie
 nce and let the flow of sensuality and self-love guide you. Limited spots 
 available—reserve yours now!\n\nGET TICKETS\n
ATTACH;FMTTYPE=image/jpeg:https://breatheatlanta.us/wp-content/uploads/202
 5/02/Sensual-Yoga-VDay-Workshop.jpeg
CATEGORIES:Wellness Events
LOCATION:Fit & Fancy Dance Studio\, 412 Eagles Landing Parkway Stockbridge\
 , Atlanta\, GA\, 30281\, GA\, United States
X-APPLE-STRUCTURED-LOCATION;VALUE=URI;X-ADDRESS=412 Eagles Landing Parkway 
 Stockbridge\, Atlanta\, GA\, 30281\, GA\, United States;X-APPLE-RADIUS=100
 ;X-TITLE=Fit & Fancy Dance Studio:geo:0,0
END:VEVENT
BEGIN:VTIMEZONE
TZID:America/New_York
X-LIC-LOCATION:America/New_York
BEGIN:STANDARD
DTSTART:20241103T010000
TZOFFSETFROM:-0400
TZOFFSETTO:-0500
TZNAME:EST
END:STANDARD
END:VTIMEZONE
END:VCALENDAR