BEGIN:VCALENDAR
VERSION:2.0
PRODID:-//wp-events-plugin.com//7.2.3.1//EN
TZID:America/New_York
X-WR-TIMEZONE:America/New_York
BEGIN:VEVENT
UID:460@breatheatlanta.us
DTSTART;TZID=America/New_York:20240920T180000
DTEND;TZID=America/New_York:20240920T190000
DTSTAMP:20240915T081334Z
URL:https://breatheatlanta.us/events/september-full-moon-sound-bath-sessio
 n-with-queen-yenn/
SUMMARY:September Full Moon Sound Bath Session with Queen Yenn
DESCRIPTION:Join Queen Yenn for a transformative September Full Moon Sound 
 Bath session\, where the calming power of sound healing meets the rejuvena
 ting energy of Reiki. This immersive experience offers a deep sense of rel
 axation and renewal\, inviting you to release stress and find inner harmon
 y under the glow of the full moon.\n\nDuring the session\, participants wi
 ll be gently guided through a soothing blend of sound healing techniques. 
 The resonant frequencies of carefully curated instruments will work in tan
 dem with the gentle yet profound flow of Reiki energy\, helping to balance
  the mind\, body\, and spirit. This combination promotes deep relaxation\,
  releasing tension\, and restoring a sense of peace and well-being.\n\nWhy
  You Should Attend:\n\n 	Relax &amp\; Rejuvenate: Escape the demands of ev
 eryday life and let the vibrational energy wash away stress\, leaving you 
 feeling refreshed and revitalized.\n 	Healing &amp\; Balance: Experience t
 he harmonizing effects of Reiki\, as it clears energetic blockages and res
 tores a state of balance.\n 	Full Moon Energy: Harness the natural energy 
 of the September full moon for reflection\, renewal\, and intention settin
 g.\n\nImportant Details:\n\n 	Spaces Are Limited: To ensure an intimate an
 d personalized experience\, spots are limited. Be sure to reserve your spa
 ce early.\n 	Bring Your Essentials: Participants are encouraged to bring a
  mat\, blanket\, or pillow to enhance comfort during the session.\n\nEmbar
 k on a journey of inner peace and tranquility\, as Queen Yenn guides you t
 hrough a unique fusion of sound and energy healing designed to soothe your
  soul and rejuvenate your spirit. Reserve your spot today for this unforge
 ttable evening of relaxation and renewal.\n\nGET TICKETS\n
ATTACH;FMTTYPE=image/jpeg:https://breatheatlanta.us/wp-content/uploads/202
 4/09/September-Full-Moon-Sound-Bath-Session-with-Queen-Yenn.jpg
CATEGORIES:Things To Do,Wellness Events
LOCATION:Oyun Botanical Gardens (also Oyun Ministries & Marketplace)\, 3353
  Washington Road East Point\, East Point\, GA\, 30344\, United States
X-APPLE-STRUCTURED-LOCATION;VALUE=URI;X-ADDRESS=3353 Washington Road East P
 oint\, East Point\, GA\, 30344\, United States;X-APPLE-RADIUS=100;X-TITLE=
 Oyun Botanical Gardens (also Oyun Ministries & Marketplace):geo:0,0
END:VEVENT
BEGIN:VTIMEZONE
TZID:America/New_York
X-LIC-LOCATION:America/New_York
BEGIN:DAYLIGHT
DTSTART:20240310T030000
TZOFFSETFROM:-0500
TZOFFSETTO:-0400
TZNAME:EDT
END:DAYLIGHT
END:VTIMEZONE
END:VCALENDAR