BEGIN:VCALENDAR
VERSION:2.0
PRODID:-//wp-events-plugin.com//7.2.3.1//EN
TZID:America/New_York
X-WR-TIMEZONE:America/New_York
BEGIN:VEVENT
UID:695@breatheatlanta.us
DTSTART;TZID=America/New_York:20241123T100000
DTEND;TZID=America/New_York:20241123T110000
DTSTAMP:20241024T162435Z
URL:https://breatheatlanta.us/events/serene-pathways-guided-walking-medita
 tion-for-self-love-personal-growth/
SUMMARY:Serene Pathways: Guided Walking Meditation for Self-Love & Personal
  Growth
DESCRIPTION:Every Saturday\, embark on a meditative journey with Serene Pat
 hways\, a weekly walking meditation designed to foster self-love\, inner p
 eace\, and personal growth. These mindful walks provide an opportunity to 
 reconnect with nature and oneself\, offering a unique space for reflection
  and healing. Whether you're working on relationships or seeking a deeper 
 understanding of yourself\, these guided sessions will help you feel groun
 ded\, present\, and more connected.\n\nWhat You Can Expect:\n\n 	Guided Na
 ture Walk: Experience the calming effects of nature as you walk along scen
 ic paths\, with moments to reflect\, breathe\, and reconnect with your inn
 er self.\n 	Breathwork Practice: At designated points\, participants will 
 pause for gentle breathwork exercises\, helping to calm the mind\, focus o
 n the present\, and align the body’s energy.\n 	Mindful Meditation: The 
 walk will incorporate moments of silence\, guided visualization\, and mind
 ful awareness\, deepening your sense of presence and clarity.\n 	Community
  Connection: Meet and connect with a supportive group of individuals who s
 hare your desire for personal growth\, conscious living\, and mindfulness.
 \n\nWhat to Bring:\n\n 	Comfortable walking shoes suitable for the terrain
 \n 	Water to stay hydrated\n 	An open heart and mind\, ready for personal 
 transformation and introspection\n\nThis family-friendly event is open to 
 all\, regardless of meditation experience. Whether you're new to mindfulne
 ss or a seasoned practitioner\, this walking meditation offers a welcoming
  space to explore personal growth and inner peace. Rain or shine\, the jou
 rney continues\, encouraging participants to embrace whatever the day brin
 gs with a sense of calm and openness.\n\nJoin us every Saturday to experie
 nce the transformative power of mindfulness in nature and build lasting co
 nnections with yourself and like-minded individuals!\n\nGET TICKETS\n
ATTACH;FMTTYPE=image/jpeg:https://breatheatlanta.us/wp-content/uploads/202
 4/10/Serene-Pathways-Guided-Walking-Meditation-for-Self-Love-Personal-Grow
 th.jpg
CATEGORIES:Things To Do
LOCATION:Club Drive Park\, 3330 Club Drive Lawrenceville\, Atlanta\, Georgi
 a\, 30044\, GA\, United States
X-APPLE-STRUCTURED-LOCATION;VALUE=URI;X-ADDRESS=3330 Club Drive Lawrencevil
 le\, Atlanta\, Georgia\, 30044\, GA\, United States;X-APPLE-RADIUS=100;X-T
 ITLE=Club Drive Park:geo:0,0
END:VEVENT
BEGIN:VTIMEZONE
TZID:America/New_York
X-LIC-LOCATION:America/New_York
BEGIN:STANDARD
DTSTART:20241103T010000
TZOFFSETFROM:-0400
TZOFFSETTO:-0500
TZNAME:EST
END:STANDARD
END:VTIMEZONE
END:VCALENDAR