BEGIN:VCALENDAR
VERSION:2.0
PRODID:-//wp-events-plugin.com//7.2.3.1//EN
TZID:America/New_York
X-WR-TIMEZONE:America/New_York
BEGIN:VEVENT
UID:118@breatheatlanta.us
DTSTART;TZID=America/New_York:20240401T190000
DTEND;TZID=America/New_York:20240401T203000
DTSTAMP:20240323T081943Z
URL:https://breatheatlanta.us/events/sexflex-yoga/
SUMMARY:SEXFLEX YOGA
DESCRIPTION:Enhance your pleasure through a combination of poses and pelvic
  floor exercises. Unlock new levels of sensation and intimacy as you delve
  into this empowering practice. Experience the transformative power of min
 dful movement as it ignites your senses and fosters a deeper connection wi
 th your body. Join us and discover the joy of intensifying pleasure throug
 h the art of yoga and pelvic floor exercises.\n\nEvent Information:\n\nEve
 nt Name: SEXFLEX YOGA\n\nHost: BODY ELECTRIC ART STUDIO\n\nDate and Time: 
 Monday\, April 1 • 7:00 - 8:30 pm EDT\n\nLocation: BODY ELECTRIC ART STU
 DIO\, 620 Glen Iris Drive Northeast #112 Atlanta\, GA 30308\, United State
 s\n\nAbout this Event: Indulge in an exhilarating and liberating evening o
 f SEXFLEX YOGA at the BODY ELECTRIC ART STUDIO! Join us every Monday at 7 
 pm for a transformative in-person experience.\n\nSEXFLEX YOGA is a unique 
 fusion of sensuality\, flexibility\, and mindfulness\, aimed at exploring 
 the profound connection between mind\, body\, and pleasure. Our skilled in
 structors will lead you through a dynamic series of yoga poses and movemen
 ts\, meticulously crafted to enhance physical strength\, flexibility\, and
  sexual energy.\n\nEmbrace the opportunity to celebrate your sensuality an
 d body in a safe and inclusive environment. Whether you're new to yoga or 
 a seasoned practitioner\, SEXFLEX YOGA welcomes participants of all fitnes
 s levels and flexibility.\n\nPrepare to embark on a journey of self-discov
 ery and empowerment alongside like-minded individuals who share your desir
 e for a more fulfilling and pleasurable life. Spaces are limited\, so ensu
 re to reserve your spot in advance. We look forward to welcoming you to SE
 XFLEX YOGA!\n\nTicket Information:\n\nGeneral Admission - $22.00\n\nFees: 
 $3.31\n\nSales Tax: $2.25\n\nTotal: $27.56\n\nGET TICKETS\n\nWorkout Sessi
 on Detail:\n\nA 90-minute session of SEXFLEX YOGA\, integrating yoga poses
  and movements to enhance physical strength\, flexibility\, and sexual ene
 rgy.\n\nEssential for Attendees:\n\nComfortable clothing suitable for yoga
  practice.\n\nWater bottle and towel.\n\nOpenness to exploring sensuality 
 and mindfulness.\n\nParking Option: Not specified in the provided informat
 ion.\n\nRefund Policy: Refunds are available up to 1 day before the event.
  Eventbrite's fee is nonrefundable.
ATTACH;FMTTYPE=image/jpeg:https://breatheatlanta.us/wp-content/uploads/202
 4/03/78897987798.jpg
CATEGORIES:Wellness Events,Yoga Events
LOCATION:BODY ELECTRIC ART STUDIO\,   620 Glen Iris Drive Northeast #112 \,
  \, Atlanta\, United States\, 30308 \, GA \, United States
X-APPLE-STRUCTURED-LOCATION;VALUE=URI;X-ADDRESS=  620 Glen Iris Drive North
 east #112 \, \, Atlanta\, United States\, 30308 \, GA \, United States;X-A
 PPLE-RADIUS=100;X-TITLE=BODY ELECTRIC ART STUDIO:geo:0,0
END:VEVENT
BEGIN:VTIMEZONE
TZID:America/New_York
X-LIC-LOCATION:America/New_York
BEGIN:DAYLIGHT
DTSTART:20240310T030000
TZOFFSETFROM:-0500
TZOFFSETTO:-0400
TZNAME:EDT
END:DAYLIGHT
END:VTIMEZONE
END:VCALENDAR