BEGIN:VCALENDAR
VERSION:2.0
PRODID:-//wp-events-plugin.com//7.2.3.1//EN
TZID:America/New_York
X-WR-TIMEZONE:America/New_York
BEGIN:VEVENT
UID:627@breatheatlanta.us
DTSTART;TZID=America/New_York:20241105T180000
DTEND;TZID=America/New_York:20241105T190000
DTSTAMP:20241014T105925Z
URL:https://breatheatlanta.us/events/shakti-yoga/
SUMMARY:Shakti Yoga
DESCRIPTION:Shakti Yoga is an energizing and empowering practice that invit
 es participants to connect with their inner strength and vitality. Upon ar
 rival\, attendees should enter through the driveway and park on the left s
 ide in the gravel parking area. From there\, they will walk toward the Blu
 e Pool House and proceed down the stairs\, where the class will be held ou
 tdoors by the poolside\, creating a serene and inspiring environment. This
  setting enhances the experience\, allowing individuals to immerse themsel
 ves in the practice while surrounded by nature. Shakti Yoga provides a ref
 reshing opportunity for personal growth\, self-discovery\, and rejuvenatio
 n.\n\nGET TICKETS\n
ATTACH;FMTTYPE=image/jpeg:https://breatheatlanta.us/wp-content/uploads/202
 4/10/Shakti-Yoga.jpeg
CATEGORIES:Yoga Events
LOCATION:140 The Farm Rd\,  140 The Farm Road \, McDonough\,\, Georgia\, 30
 252\, GA\, United States
X-APPLE-STRUCTURED-LOCATION;VALUE=URI;X-ADDRESS= 140 The Farm Road \, McDon
 ough\,\, Georgia\, 30252\, GA\, United States;X-APPLE-RADIUS=100;X-TITLE=1
 40 The Farm Rd:geo:0,0
END:VEVENT
BEGIN:VTIMEZONE
TZID:America/New_York
X-LIC-LOCATION:America/New_York
BEGIN:STANDARD
DTSTART:20241103T010000
TZOFFSETFROM:-0400
TZOFFSETTO:-0500
TZNAME:EST
END:STANDARD
END:VTIMEZONE
END:VCALENDAR